BEGIN:VCALENDAR
VERSION:2.0
PRODID:-//VegMichigan - ECPv5.16.1.1//NONSGML v1.0//EN
CALSCALE:GREGORIAN
METHOD:PUBLISH
X-ORIGINAL-URL:https://vegmichigan.org
X-WR-CALDESC:Events for VegMichigan
REFRESH-INTERVAL;VALUE=DURATION:PT1H
X-Robots-Tag:noindex
X-PUBLISHED-TTL:PT1H
BEGIN:VTIMEZONE
TZID:America/New_York
BEGIN:DAYLIGHT
TZOFFSETFROM:-0500
TZOFFSETTO:-0400
TZNAME:EDT
DTSTART:20210314T070000
END:DAYLIGHT
BEGIN:STANDARD
TZOFFSETFROM:-0400
TZOFFSETTO:-0500
TZNAME:EST
DTSTART:20211107T060000
END:STANDARD
END:VTIMEZONE
BEGIN:VEVENT
DTSTART;TZID=America/New_York:20210608T183000
DTEND;TZID=America/New_York:20210608T193000
DTSTAMP:20260419T084715
CREATED:20210225T165204Z
LAST-MODIFIED:20210527T143003Z
UID:5343-1623177000-1623180600@vegmichigan.org
SUMMARY:COOKING FOR PLANT-BASED NUTRITION (REGISTRATION REQUIRED)
DESCRIPTION:VegMichigan and the Harrison Township Public Library are excited to bring you a plant-based cooking demo by Chantal Singer\, RDN. \nAre you ready to begin your journey to a healthier life? Eating more plant-based foods can help! Chantal Singer will discuss the benefits of adding more plant-based foods to your diet as she demos a few delicious plant-based dishes that you can easily make yourself. She will share with you all of the best plant-based foods you should be eating that are not only super nutritious but incredibly delicious as well! \nChantal Singer is a Registered Dietitian Nutritionist for St. Joseph Mercy Health System’s Michigan Heart & Vascular Institute teaching plant-based eating and lifestyle medicine as part of the Pritikin Intensive Cardiac Rehab program. Chantal is very passionate about plant-based eating for human health\, planetary health\, and animal welfare. She can be found on Instagram @plant_based_nutritionist \nRegister in advance for this meeting: https://zoom.us/meeting/register/tJwvde-qqzsqHdROlu7W-UzKsd2MFtxiH0bz
URL:https://vegmichigan.org/event/cooking-for-plant-based-nutrition/
LOCATION:MI
ATTACH;FMTTYPE=image/jpeg:https://vegmichigan.org/wp-content/uploads/2021/02/max-delsid-0geTqSZ76Xg-unsplash-scaled.jpg
END:VEVENT
END:VCALENDAR