BEGIN:VCALENDAR
VERSION:2.0
PRODID:-//VegMichigan - ECPv5.16.1.1//NONSGML v1.0//EN
CALSCALE:GREGORIAN
METHOD:PUBLISH
X-ORIGINAL-URL:https://vegmichigan.org
X-WR-CALDESC:Events for VegMichigan
REFRESH-INTERVAL;VALUE=DURATION:PT1H
X-Robots-Tag:noindex
X-PUBLISHED-TTL:PT1H
BEGIN:VTIMEZONE
TZID:America/New_York
BEGIN:DAYLIGHT
TZOFFSETFROM:-0500
TZOFFSETTO:-0400
TZNAME:EDT
DTSTART:20210314T070000
END:DAYLIGHT
BEGIN:STANDARD
TZOFFSETFROM:-0400
TZOFFSETTO:-0500
TZNAME:EST
DTSTART:20211107T060000
END:STANDARD
END:VTIMEZONE
BEGIN:VEVENT
DTSTART;TZID=America/New_York:20210721T183000
DTEND;TZID=America/New_York:20210721T193000
DTSTAMP:20260419T103454
CREATED:20210630T151711Z
LAST-MODIFIED:20210630T151856Z
UID:6589-1626892200-1626895800@vegmichigan.org
SUMMARY:FOOD CHOICES\, SUSTAINABILITY\, AND HEALTH CARE
DESCRIPTION:VegMichigan is excited to bring you Food Choices\, Sustainability\, and Health Care by Amanda Sweetman the Regional Director of Farming and Healthy Lifestyles for Trinity Michigan. Come learn about the impacts of what you eat on the environment and your health\, and why a hospital has a farm!  \nThe Farm at St Joe’s Hospital  <https://stjoesfarm.org/> was the first hospital-based farm in Michigan.  The 2-acre farm has 2 hoop houses\, a handicap-accessible hoop house for therapy\, community gardens\, and an outdoor classroom. While they produce about 10\,000lbs of food annually\, they are more concerned with growing a healthy community by empowering people through food\, education\, and relationships. \nAs part of their mission to create a just\, robust local food system\, the Farm has created the collaborative “Farm Share\,” a CSA\, which is offered at their Ann Arbor and Oakland campuses. Farm Share members receive boxes of seasonal fruits and vegetables from local farms on a regular basis. The program generated $150\,000 of revenue for local farms in 2020. Memberships are available for purchase on a sliding scale. Food insecure families are provided with free or reduced cost membership.  Other programs include horticultural therapy\, youth education\, staff community gardens\, and a produce to patients program. Join the Farm as a farm share member or volunteer and learn more about sustainable farming and healthy eating. Learn more from their 2020 annual report and their website. \nAmanda Sweetman has worked as a scientist\, farmer\, educator\, and chef. In 2015 she landed her dream job as the Farm Manager at the Farm at St Joe’s Hospital. It is there that Amanda found her true purpose. Her driving passion is to help people to discover and experience the holistic health benefits of personal connection to the food we eat\, the places where our food comes from\, and the community that pulls together to sustain us. She and her team work to educate and engage people of all ages around what real food is and how we can support one another as we work to make a change towards better health.  Amanda has recently transitioned to the newly created role\, Regional Director of Farming and Healthy Lifestyles for Trinity Michigan. The creation of this role shows the dedication of Trinity Michigan to supporting local farmers\, increasing food access\, and to growing a healthy community through food and relationships. \nJoin us on Zoom here – https://us06web.zoom.us/j/84223176940
URL:https://vegmichigan.org/event/food-choices-sustainability-and-health-care/
LOCATION:MI
ATTACH;FMTTYPE=image/png:https://vegmichigan.org/wp-content/uploads/2021/06/Screen-Shot-2021-06-30-at-10.37.31-AM.png
END:VEVENT
END:VCALENDAR