BEGIN:VCALENDAR
VERSION:2.0
PRODID:-//VegMichigan - ECPv5.16.1.1//NONSGML v1.0//EN
CALSCALE:GREGORIAN
METHOD:PUBLISH
X-ORIGINAL-URL:https://vegmichigan.org
X-WR-CALDESC:Events for VegMichigan
REFRESH-INTERVAL;VALUE=DURATION:PT1H
X-Robots-Tag:noindex
X-PUBLISHED-TTL:PT1H
BEGIN:VTIMEZONE
TZID:America/New_York
BEGIN:DAYLIGHT
TZOFFSETFROM:-0500
TZOFFSETTO:-0400
TZNAME:EDT
DTSTART:20210314T070000
END:DAYLIGHT
BEGIN:STANDARD
TZOFFSETFROM:-0400
TZOFFSETTO:-0500
TZNAME:EST
DTSTART:20211107T060000
END:STANDARD
END:VTIMEZONE
BEGIN:VEVENT
DTSTART;TZID=America/New_York:20210729T180000
DTEND;TZID=America/New_York:20210729T193000
DTSTAMP:20260419T103455
CREATED:20210630T160212Z
LAST-MODIFIED:20210630T160212Z
UID:6600-1627581600-1627587000@vegmichigan.org
SUMMARY:ANN ARBOR DINNER CLUB AT COSA SABROSA
DESCRIPTION:Do you live in the Ann Arbor area and want to enjoy a delicious meal with like-minded community members? We would love for you to join us for this Ann Arbor dinner club! \nPlease join our Greater Ann Arbor Area meetup group to learn more and become a member of our VegMichigan – Ann Arbor community. \nJoin our Meetup group here – https://www.meetup.com/vegmichigan-greater-ann-arbor-area/events/278666974/ \n  \n 
URL:https://vegmichigan.org/event/ann-arbor-dinner-club-at-cosa-sabrosa/
LOCATION:MI
ATTACH;FMTTYPE=image/png:https://vegmichigan.org/wp-content/uploads/2021/06/Screen-Shot-2021-06-30-at-11.54.25-AM.png
END:VEVENT
END:VCALENDAR