BEGIN:VCALENDAR
VERSION:2.0
PRODID:-//VegMichigan - ECPv5.16.1.1//NONSGML v1.0//EN
CALSCALE:GREGORIAN
METHOD:PUBLISH
X-ORIGINAL-URL:https://vegmichigan.org
X-WR-CALDESC:Events for VegMichigan
REFRESH-INTERVAL;VALUE=DURATION:PT1H
X-Robots-Tag:noindex
X-PUBLISHED-TTL:PT1H
BEGIN:VTIMEZONE
TZID:America/New_York
BEGIN:DAYLIGHT
TZOFFSETFROM:-0500
TZOFFSETTO:-0400
TZNAME:EDT
DTSTART:20210314T070000
END:DAYLIGHT
BEGIN:STANDARD
TZOFFSETFROM:-0400
TZOFFSETTO:-0500
TZNAME:EST
DTSTART:20211107T060000
END:STANDARD
END:VTIMEZONE
BEGIN:VEVENT
DTSTART;TZID=America/New_York:20210928T190000
DTEND;TZID=America/New_York:20210928T200000
DTSTAMP:20260419T134626
CREATED:20210830T185338Z
LAST-MODIFIED:20210830T185338Z
UID:7157-1632855600-1632859200@vegmichigan.org
SUMMARY:BUILDING A JUST FOOD SYSTEM - A TALK BY MALIK YAKINI
DESCRIPTION:We are excited to have Detroit-based activist and educator Malik Yakini talk to the VegMichigan community about building a just food system. \nThis talk will examine how racism\, class\, and geography create inequities in the food system.  The work of the Detroit Black Community Food Security Network and other groups working for food justice will be highlighted. \nMalik Kenyatta Yakini is co-founder and Executive Director of the Detroit Black Community Food Security Network (DBCFSN).  DBCFSN operates the seven-acre D-Town Farm and is spearheading the opening of the Detroit Food Commons in Detroit’s North End that will house the Detroit People’s Food Co-op. He serves as a board member of the co-op. Yakini views the work of DBCFSN as part of the larger movement for building power\, self-determination\, and justice. He is adamantly opposed to the systems of white supremacy\, capitalism\, and patriarchy. He has an intense interest in contributing to the development of an international food sovereignty movement that embraces Black communities in the Americas\, the Caribbean\, and Africa. He is a co-founder of the National Black Food and Justice Alliance. \nJoin us on Zoom here – https://us06web.zoom.us/j/87397700359
URL:https://vegmichigan.org/event/building-a-just-food-system-a-talk-by-malik-yakini/
LOCATION:MI
ATTACH;FMTTYPE=image/jpeg:https://vegmichigan.org/wp-content/uploads/2021/08/Malik-in-Hoohouse-1.jpeg
END:VEVENT
END:VCALENDAR