BEGIN:VCALENDAR
VERSION:2.0
PRODID:-//VegMichigan - ECPv5.16.1.1//NONSGML v1.0//EN
CALSCALE:GREGORIAN
METHOD:PUBLISH
X-ORIGINAL-URL:https://vegmichigan.org
X-WR-CALDESC:Events for VegMichigan
REFRESH-INTERVAL;VALUE=DURATION:PT1H
X-Robots-Tag:noindex
X-PUBLISHED-TTL:PT1H
BEGIN:VTIMEZONE
TZID:America/New_York
BEGIN:DAYLIGHT
TZOFFSETFROM:-0500
TZOFFSETTO:-0400
TZNAME:EDT
DTSTART:20210314T070000
END:DAYLIGHT
BEGIN:STANDARD
TZOFFSETFROM:-0400
TZOFFSETTO:-0500
TZNAME:EST
DTSTART:20211107T060000
END:STANDARD
END:VTIMEZONE
BEGIN:VEVENT
DTSTART;TZID=America/New_York:20211006T183000
DTEND;TZID=America/New_York:20211006T193000
DTSTAMP:20260419T153628
CREATED:20201222T014100Z
LAST-MODIFIED:20210930T154715Z
UID:4851-1633545000-1633548600@vegmichigan.org
SUMMARY:GET HEALTHY WITH PLANT-BASED NUTRITION
DESCRIPTION:VegMichigan and the Plymouth Public Library bring you Get Healthy with Plant-Based Nutrition by Chantal Singer. \nAre you ready to begin your journey to a healthier life? Eating more plant-based foods can help! Chantal Singer will discuss the benefits of adding more plant-based foods to your diet. She will share with you all of the best plant-based foods you should be eating that are not only super nutritious but incredibly delicious as well! \nChantal is a Registered Dietitian Nutritionist for St. Joseph Mercy Health System’s Michigan Heart & Vascular Institute teaching plant-based eating and lifestyle medicine. Chantal is very passionate about plant-based eating for human health\, planetary health\, and animal welfare. She can be found on Instagram @plant_based_nutritionist. \n\nJoin Zoom Meeting – https://us02web.zoom.us/j/85356636655\n\nMeeting ID: 853 5663 6655\nPasscode: 47722464
URL:https://vegmichigan.org/event/love-your-body-with-plant-based-nutrition/
LOCATION:MI
ATTACH;FMTTYPE=image/jpeg:https://vegmichigan.org/wp-content/uploads/2020/12/pexels-viktoria-slowikowska-5677795-scaled.jpg
END:VEVENT
END:VCALENDAR