BEGIN:VCALENDAR
VERSION:2.0
PRODID:-//VegMichigan - ECPv5.16.1.1//NONSGML v1.0//EN
CALSCALE:GREGORIAN
METHOD:PUBLISH
X-WR-CALNAME:VegMichigan
X-ORIGINAL-URL:https://vegmichigan.org
X-WR-CALDESC:Events for VegMichigan
REFRESH-INTERVAL;VALUE=DURATION:PT1H
X-Robots-Tag:noindex
X-PUBLISHED-TTL:PT1H
BEGIN:VTIMEZONE
TZID:America/New_York
BEGIN:DAYLIGHT
TZOFFSETFROM:-0500
TZOFFSETTO:-0400
TZNAME:EDT
DTSTART:20210314T070000
END:DAYLIGHT
BEGIN:STANDARD
TZOFFSETFROM:-0400
TZOFFSETTO:-0500
TZNAME:EST
DTSTART:20211107T060000
END:STANDARD
END:VTIMEZONE
BEGIN:VEVENT
DTSTART;VALUE=DATE:20211023
DTEND;VALUE=DATE:20211024
DTSTAMP:20260419T153504
CREATED:20211013T162500Z
LAST-MODIFIED:20211013T162519Z
UID:7421-1634947200-1635033599@vegmichigan.org
SUMMARY:PLANT-BASED TAILGATE – UofM/NORTHWESTERN GAME
DESCRIPTION:VegMichigan will be in Ann Arbor at the UofM/Northwestern game giving out free Beyond Burgers and other delicious food to individuals new to plant-based eating.
URL:https://vegmichigan.org/event/plant-based-tailgate-uofm-northwestern-game/
LOCATION:MI
ATTACH;FMTTYPE=image/jpeg:https://vegmichigan.org/wp-content/uploads/2021/10/VAG7QSWKGZA53FVVSXMS45NCIY.jpg
END:VEVENT
END:VCALENDAR