BEGIN:VCALENDAR
VERSION:2.0
PRODID:-//VegMichigan - ECPv5.16.1.1//NONSGML v1.0//EN
CALSCALE:GREGORIAN
METHOD:PUBLISH
X-WR-CALNAME:VegMichigan
X-ORIGINAL-URL:https://vegmichigan.org
X-WR-CALDESC:Events for VegMichigan
REFRESH-INTERVAL;VALUE=DURATION:PT1H
X-Robots-Tag:noindex
X-PUBLISHED-TTL:PT1H
BEGIN:VTIMEZONE
TZID:America/New_York
BEGIN:DAYLIGHT
TZOFFSETFROM:-0500
TZOFFSETTO:-0400
TZNAME:EDT
DTSTART:20210314T070000
END:DAYLIGHT
BEGIN:STANDARD
TZOFFSETFROM:-0400
TZOFFSETTO:-0500
TZNAME:EST
DTSTART:20211107T060000
END:STANDARD
END:VTIMEZONE
BEGIN:VEVENT
DTSTART;VALUE=DATE:20211024
DTEND;VALUE=DATE:20211025
DTSTAMP:20260419T153612
CREATED:20211007T145915Z
LAST-MODIFIED:20211008T142347Z
UID:7387-1635033600-1635119999@vegmichigan.org
SUMMARY:PLANT BASED EATS AT DETROIT'S EMPIRE BOXING GYM
DESCRIPTION:VegMichigan will be serving a complimentary plant-based meal at Detroit’s Empire Boxing Gym to individuals who are interested in eating more plant-based meals. \nThis is a private event.
URL:https://vegmichigan.org/event/plant-based-eats-at-detroits-empire-boxing-gym/
LOCATION:MI
ATTACH;FMTTYPE=image/jpeg:https://vegmichigan.org/wp-content/uploads/2021/10/pexels-michelle-leman-6798724-scaled.jpg
END:VEVENT
END:VCALENDAR