BEGIN:VCALENDAR
VERSION:2.0
PRODID:-//VegMichigan - ECPv5.16.1.1//NONSGML v1.0//EN
CALSCALE:GREGORIAN
METHOD:PUBLISH
X-ORIGINAL-URL:https://vegmichigan.org
X-WR-CALDESC:Events for VegMichigan
REFRESH-INTERVAL;VALUE=DURATION:PT1H
X-Robots-Tag:noindex
X-PUBLISHED-TTL:PT1H
BEGIN:VTIMEZONE
TZID:America/New_York
BEGIN:DAYLIGHT
TZOFFSETFROM:-0500
TZOFFSETTO:-0400
TZNAME:EDT
DTSTART:20210314T070000
END:DAYLIGHT
BEGIN:STANDARD
TZOFFSETFROM:-0400
TZOFFSETTO:-0500
TZNAME:EST
DTSTART:20211107T060000
END:STANDARD
END:VTIMEZONE
BEGIN:VEVENT
DTSTART;VALUE=DATE:20211127
DTEND;VALUE=DATE:20211128
DTSTAMP:20260419T172139
CREATED:20211007T151021Z
LAST-MODIFIED:20211007T151021Z
UID:7398-1637971200-1638057599@vegmichigan.org
SUMMARY:PLANT-BASED TAILGATE - MSU/PENN STATE GAME
DESCRIPTION:VegMichigan will be in E.Lansing at the MSU/Penn State game giving out free Beyond Burgers and other delicious food to individuals new to plant-based eating. \nGo green!
URL:https://vegmichigan.org/event/plant-based-tailgate-msu-penn-state-game/
LOCATION:MI
ATTACH;FMTTYPE=image/jpeg:https://vegmichigan.org/wp-content/uploads/2021/10/GettyImages-153100239-775x465-1.jpg
END:VEVENT
BEGIN:VEVENT
DTSTART;VALUE=DATE:20211127
DTEND;VALUE=DATE:20211128
DTSTAMP:20260419T172139
CREATED:20210930T173815Z
LAST-MODIFIED:20211007T150356Z
UID:7252-1637971200-1638057599@vegmichigan.org
SUMMARY:PLANT-BASED TAILGATE - UofM/OHIO STATE GAME
DESCRIPTION:VegMichigan will be in Ann Arbor at the UofM/Ohio State game giving out free Beyond Burgers and other delicious food to individuals new to plant-based eating. \nGo blue!
URL:https://vegmichigan.org/event/msu-plant-based-tailgate-volunteers-needed-this-saturday/
LOCATION:MI
ATTACH;FMTTYPE=image/jpeg:https://vegmichigan.org/wp-content/uploads/2021/09/maxresdefault.jpg
END:VEVENT
END:VCALENDAR