BEGIN:VCALENDAR
VERSION:2.0
PRODID:-//VegMichigan - ECPv5.16.1.1//NONSGML v1.0//EN
CALSCALE:GREGORIAN
METHOD:PUBLISH
X-WR-CALNAME:VegMichigan
X-ORIGINAL-URL:https://vegmichigan.org
X-WR-CALDESC:Events for VegMichigan
REFRESH-INTERVAL;VALUE=DURATION:PT1H
X-Robots-Tag:noindex
X-PUBLISHED-TTL:PT1H
BEGIN:VTIMEZONE
TZID:America/New_York
BEGIN:DAYLIGHT
TZOFFSETFROM:-0500
TZOFFSETTO:-0400
TZNAME:EDT
DTSTART:20210314T070000
END:DAYLIGHT
BEGIN:STANDARD
TZOFFSETFROM:-0400
TZOFFSETTO:-0500
TZNAME:EST
DTSTART:20211107T060000
END:STANDARD
END:VTIMEZONE
BEGIN:VEVENT
DTSTART;VALUE=DATE:20211207
DTEND;VALUE=DATE:20211208
DTSTAMP:20260419T185703
CREATED:20211124T172959Z
LAST-MODIFIED:20211124T172959Z
UID:7663-1638835200-1638921599@vegmichigan.org
SUMMARY:PITE CLUB SUSTAINABLE EATING EVENT AT UNIVERSITY OF MICHIGAN
DESCRIPTION:Students will enjoy a sustainable eating documentary and take home our giveaway bag full of popular plant-based items.
URL:https://vegmichigan.org/event/pite-club-sustainable-eating-event-at-university-of-michigan/
LOCATION:MI
ATTACH;FMTTYPE=image/jpeg:https://vegmichigan.org/wp-content/uploads/2021/11/pexels-akil-mazumder-1072824-scaled.jpg
END:VEVENT
END:VCALENDAR