BEGIN:VCALENDAR
VERSION:2.0
PRODID:-//VegMichigan - ECPv5.16.1.1//NONSGML v1.0//EN
CALSCALE:GREGORIAN
METHOD:PUBLISH
X-WR-CALNAME:VegMichigan
X-ORIGINAL-URL:https://vegmichigan.org
X-WR-CALDESC:Events for VegMichigan
REFRESH-INTERVAL;VALUE=DURATION:PT1H
X-Robots-Tag:noindex
X-PUBLISHED-TTL:PT1H
BEGIN:VTIMEZONE
TZID:America/New_York
BEGIN:DAYLIGHT
TZOFFSETFROM:-0500
TZOFFSETTO:-0400
TZNAME:EDT
DTSTART:20220313T070000
END:DAYLIGHT
BEGIN:STANDARD
TZOFFSETFROM:-0400
TZOFFSETTO:-0500
TZNAME:EST
DTSTART:20221106T060000
END:STANDARD
END:VTIMEZONE
BEGIN:VEVENT
DTSTART;VALUE=DATE:20220122
DTEND;VALUE=DATE:20220123
DTSTAMP:20260419T203406
CREATED:20220110T175211Z
LAST-MODIFIED:20220110T175211Z
UID:7817-1642809600-1642895999@vegmichigan.org
SUMMARY:PLANT-BASED GIVEAWAY AT THE HUMANE SOCIETY OF HURON VALLEY
DESCRIPTION:We are excited to partner with The Humane Society of Huron Valley for another free\, plant-based giveaway for community members who are new to plant-based eating.
URL:https://vegmichigan.org/event/plant-based-giveaway-at-the-humane-society-of-huron-valley-4/
LOCATION:MI
ATTACH;FMTTYPE=image/jpeg:https://vegmichigan.org/wp-content/uploads/2022/01/pexels-engin-akyurt-9880914-scaled.jpg
END:VEVENT
END:VCALENDAR