BEGIN:VCALENDAR
VERSION:2.0
PRODID:-//VegMichigan - ECPv5.16.1.1//NONSGML v1.0//EN
CALSCALE:GREGORIAN
METHOD:PUBLISH
X-ORIGINAL-URL:https://vegmichigan.org
X-WR-CALDESC:Events for VegMichigan
REFRESH-INTERVAL;VALUE=DURATION:PT1H
X-Robots-Tag:noindex
X-PUBLISHED-TTL:PT1H
BEGIN:VTIMEZONE
TZID:America/New_York
BEGIN:DAYLIGHT
TZOFFSETFROM:-0500
TZOFFSETTO:-0400
TZNAME:EDT
DTSTART:20220313T070000
END:DAYLIGHT
BEGIN:STANDARD
TZOFFSETFROM:-0400
TZOFFSETTO:-0500
TZNAME:EST
DTSTART:20221106T060000
END:STANDARD
END:VTIMEZONE
BEGIN:VEVENT
DTSTART;VALUE=DATE:20220309
DTEND;VALUE=DATE:20220310
DTSTAMP:20260420T000052
CREATED:20220308T212420Z
LAST-MODIFIED:20220308T212456Z
UID:8321-1646784000-1646870399@vegmichigan.org
SUMMARY:VEGAN PIZZA AND ENVIRONMENTAL PRESENTATION FOR UOFM STUDENT GROUPS NET IMPACT AND SIERRA CLUB
DESCRIPTION:VEGAN PIZZA AND ENVIRONMENTAL PRESENTATION FOR UofM STUDENT GROUPS NET IMPACT AND SIERRA CLUB \nVegMichigan is providing delicious vegan pizza from Cottage Inn for the members of the UofM student groups Net Impact and the UofM chapter of the Sierra Club. Amanda Sweetman\, Regional Director of Farming and Healthy Lifestyles for Trinity Michigan\, will give a presentation on the environmental benefits of plant-based eating. We will also be sharing information and having students sign up for our 30-Day Pledge to reduce their consumption of meat\, dairy\, and eggs.
URL:https://vegmichigan.org/event/vegan-pizza-and-environmental-presentation-for-uofm-student-groups-net-impact-and-the-sierra-club/
LOCATION:MI
ATTACH;FMTTYPE=image/png:https://vegmichigan.org/wp-content/uploads/2022/03/cottage-inn-goes-vegan-1-e1581091752123-2.png
END:VEVENT
END:VCALENDAR