BEGIN:VCALENDAR
VERSION:2.0
PRODID:-//VegMichigan - ECPv5.16.1.1//NONSGML v1.0//EN
CALSCALE:GREGORIAN
METHOD:PUBLISH
X-ORIGINAL-URL:https://vegmichigan.org
X-WR-CALDESC:Events for VegMichigan
REFRESH-INTERVAL;VALUE=DURATION:PT1H
X-Robots-Tag:noindex
X-PUBLISHED-TTL:PT1H
BEGIN:VTIMEZONE
TZID:America/New_York
BEGIN:DAYLIGHT
TZOFFSETFROM:-0500
TZOFFSETTO:-0400
TZNAME:EDT
DTSTART:20220313T070000
END:DAYLIGHT
BEGIN:STANDARD
TZOFFSETFROM:-0400
TZOFFSETTO:-0500
TZNAME:EST
DTSTART:20221106T060000
END:STANDARD
END:VTIMEZONE
BEGIN:VEVENT
DTSTART;VALUE=DATE:20220314
DTEND;VALUE=DATE:20220315
DTSTAMP:20260420T000048
CREATED:20220217T143300Z
LAST-MODIFIED:20220217T143443Z
UID:8126-1647216000-1647302399@vegmichigan.org
SUMMARY:30-DAY PLEDGE GIVEAWAY FOR UOFM STUDENT GROUP CITIZENS' CLIMATE LOBBY
DESCRIPTION:30-DAY PLEDGE GIVEAWAY FOR UOFM STUDENT GROUP CITIZENS’ CLIMATE LOBBY \nVegMichigan is partnering with the UofM student group Citizens’ Climate Lobby for a 30-Day pledge to reduce their members’ consumption of meat\, dairy\, and eggs. The pledge also includes a free bag of popular plant-based foods for everyone who signs up.
URL:https://vegmichigan.org/event/30-day-pledge-giveaway-for-uofm-student-group-citizens-climate-lobby/
LOCATION:MI
ATTACH;FMTTYPE=image/jpeg:https://vegmichigan.org/wp-content/uploads/2022/02/pexels-markus-spiske-2990650-scaled.jpg
END:VEVENT
END:VCALENDAR