BEGIN:VCALENDAR
VERSION:2.0
PRODID:-//VegMichigan - ECPv5.16.1.1//NONSGML v1.0//EN
CALSCALE:GREGORIAN
METHOD:PUBLISH
X-WR-CALNAME:VegMichigan
X-ORIGINAL-URL:https://vegmichigan.org
X-WR-CALDESC:Events for VegMichigan
REFRESH-INTERVAL;VALUE=DURATION:PT1H
X-Robots-Tag:noindex
X-PUBLISHED-TTL:PT1H
BEGIN:VTIMEZONE
TZID:America/New_York
BEGIN:DAYLIGHT
TZOFFSETFROM:-0500
TZOFFSETTO:-0400
TZNAME:EDT
DTSTART:20220313T070000
END:DAYLIGHT
BEGIN:STANDARD
TZOFFSETFROM:-0400
TZOFFSETTO:-0500
TZNAME:EST
DTSTART:20221106T060000
END:STANDARD
END:VTIMEZONE
BEGIN:VEVENT
DTSTART;TZID=America/New_York:20220316T190000
DTEND;TZID=America/New_York:20220316T200000
DTSTAMP:20260419T235858
CREATED:20220223T221056Z
LAST-MODIFIED:20220225T202216Z
UID:8209-1647457200-1647460800@vegmichigan.org
SUMMARY:PLANT-BASED NUTRITION (VIRTUAL)
DESCRIPTION:VegMichigan is excited to partner with the Waterford Public Library for a Plant-Based Nutrition presentation by Chantal Singer\, RDN. \nAre you ready to begin your journey to a healthier life? Eating more plant-based foods can help! Chantal Singer will discuss the benefits of adding more plant-based foods to your diet. She will share with you all of the best plant-based foods you should be eating that are not only super nutritious but incredibly delicious as well! \nChantal Singer is a Registered Dietitian Nutritionist for St. Joseph Mercy Health System’s Michigan Heart & Vascular Institute teaching plant-based eating and lifestyle medicine. Chantal is very passionate about plant-based eating for human health\, planetary health\, and animal welfare. She can be found on Instagram @plant_based_nutritionist. \nPLEASE REGISTER IN ADVANCE HERE
URL:https://vegmichigan.org/event/the-miracle-of-a-plant-based-diet-2/
LOCATION:MI
ATTACH;FMTTYPE=image/jpeg:https://vegmichigan.org/wp-content/uploads/2022/02/pexels-ella-olsson-1640777-2-scaled.jpg
END:VEVENT
END:VCALENDAR