BEGIN:VCALENDAR
VERSION:2.0
PRODID:-//VegMichigan - ECPv5.16.1.1//NONSGML v1.0//EN
CALSCALE:GREGORIAN
METHOD:PUBLISH
X-WR-CALNAME:VegMichigan
X-ORIGINAL-URL:https://vegmichigan.org
X-WR-CALDESC:Events for VegMichigan
REFRESH-INTERVAL;VALUE=DURATION:PT1H
X-Robots-Tag:noindex
X-PUBLISHED-TTL:PT1H
BEGIN:VTIMEZONE
TZID:America/New_York
BEGIN:DAYLIGHT
TZOFFSETFROM:-0500
TZOFFSETTO:-0400
TZNAME:EDT
DTSTART:20220313T070000
END:DAYLIGHT
BEGIN:STANDARD
TZOFFSETFROM:-0400
TZOFFSETTO:-0500
TZNAME:EST
DTSTART:20221106T060000
END:STANDARD
END:VTIMEZONE
BEGIN:VEVENT
DTSTART;VALUE=DATE:20220328
DTEND;VALUE=DATE:20220329
DTSTAMP:20260419T235856
CREATED:20211130T190738Z
LAST-MODIFIED:20211130T190738Z
UID:7704-1648425600-1648511999@vegmichigan.org
SUMMARY:PLANT-BASED GIVEAWAY AT THE WATERFORD LIBRARY
DESCRIPTION:VegMichigan is excited to partner with the Waterford Township Public Library for a plant-based giveaway where we give out bags of popular plant-based foods to people new to plant-based eating.
URL:https://vegmichigan.org/event/plant-based-giveaway-at-the-waterford-library/
LOCATION:MI
ATTACH;FMTTYPE=image/jpeg:https://vegmichigan.org/wp-content/uploads/2021/11/IMG_1407-scaled.jpg
END:VEVENT
END:VCALENDAR