BEGIN:VCALENDAR
VERSION:2.0
PRODID:-//VegMichigan - ECPv5.16.1.1//NONSGML v1.0//EN
CALSCALE:GREGORIAN
METHOD:PUBLISH
X-WR-CALNAME:VegMichigan
X-ORIGINAL-URL:https://vegmichigan.org
X-WR-CALDESC:Events for VegMichigan
REFRESH-INTERVAL;VALUE=DURATION:PT1H
X-Robots-Tag:noindex
X-PUBLISHED-TTL:PT1H
BEGIN:VTIMEZONE
TZID:America/New_York
BEGIN:DAYLIGHT
TZOFFSETFROM:-0500
TZOFFSETTO:-0400
TZNAME:EDT
DTSTART:20220313T070000
END:DAYLIGHT
BEGIN:STANDARD
TZOFFSETFROM:-0400
TZOFFSETTO:-0500
TZNAME:EST
DTSTART:20221106T060000
END:STANDARD
END:VTIMEZONE
BEGIN:VEVENT
DTSTART;TZID=America/New_York:20220503T183000
DTEND;TZID=America/New_York:20220503T193000
DTSTAMP:20260420T123702
CREATED:20220425T183123Z
LAST-MODIFIED:20220425T185800Z
UID:8700-1651602600-1651606200@vegmichigan.org
SUMMARY:PLANT-BASED SUMMER RECIPES: A VIRTUAL COOKING DEMO
DESCRIPTION:PLANT-BASED SUMMER RECIPES: A VIRTUAL COOKING DEMO \nVegMichigan is excited to partner with the Westland Public Library to bring you a plant-based cooking demo by Chantal Singer\, RDN. \nChantal Singer\, RDN\, will demo easy\, nutritious\, and delicious summer dishes that even the most amateur cook can put together. She will share nutrition tips for all the foods she cooks as well! \nChantal Singer is a Registered Dietitian Nutritionist for St. Joseph Mercy Health System’s Michigan Heart & Vascular Institute teaching plant-based eating and lifestyle medicine. Chantal is very passionate about plant-based eating for human health\, planetary health\, and animal welfare. She can be found on Instagram @plant_based_nutritionist \nRecipes: https://docs.google.com/document/d/16spWMsTUsx3AeuFmOikyl_FNsFIN1VByGGxy5Hee3Ng/edit?usp=sharing \n  \nJoin Zoom Meeting \nhttps://us02web.zoom.us/j/85913064608 \nMeeting ID: 859 1306 4608 \nOne tap mobile \n+13126266799\,\,85913064608# US (Chicago) \n+19294362866\,\,85913064608# US (New York)
URL:https://vegmichigan.org/event/plant-based-summer-recipes-a-virtual-cooking-demo/
LOCATION:MI
ATTACH;FMTTYPE=image/jpeg:https://vegmichigan.org/wp-content/uploads/2022/04/pexels-kaboompics-com-6461-scaled.jpg
END:VEVENT
END:VCALENDAR