BEGIN:VCALENDAR
VERSION:2.0
PRODID:-//VegMichigan - ECPv5.16.1.1//NONSGML v1.0//EN
CALSCALE:GREGORIAN
METHOD:PUBLISH
X-WR-CALNAME:VegMichigan
X-ORIGINAL-URL:https://vegmichigan.org
X-WR-CALDESC:Events for VegMichigan
REFRESH-INTERVAL;VALUE=DURATION:PT1H
X-Robots-Tag:noindex
X-PUBLISHED-TTL:PT1H
BEGIN:VTIMEZONE
TZID:America/New_York
BEGIN:DAYLIGHT
TZOFFSETFROM:-0500
TZOFFSETTO:-0400
TZNAME:EDT
DTSTART:20220313T070000
END:DAYLIGHT
BEGIN:STANDARD
TZOFFSETFROM:-0400
TZOFFSETTO:-0500
TZNAME:EST
DTSTART:20221106T060000
END:STANDARD
END:VTIMEZONE
BEGIN:VEVENT
DTSTART;VALUE=DATE:20220524
DTEND;VALUE=DATE:20220525
DTSTAMP:20260420T123656
CREATED:20220505T165629Z
LAST-MODIFIED:20220505T165629Z
UID:8935-1653350400-1653436799@vegmichigan.org
SUMMARY:HSHV PLEDGE PICKUP
DESCRIPTION:HSHV PLEDGE PICKUP \nVegMichigan will be at the Humane Society of Huron Valley giving away bags of popular plant-based foods to people who signed up for our 30-Day Pledge to eat more plant-based foods.
URL:https://vegmichigan.org/event/hshv-pledge-pickup/
LOCATION:MI
ATTACH;FMTTYPE=image/jpeg:https://vegmichigan.org/wp-content/uploads/2021/12/IMG_00401.jpg
END:VEVENT
END:VCALENDAR