BEGIN:VCALENDAR
VERSION:2.0
PRODID:-//VegMichigan - ECPv5.16.1.1//NONSGML v1.0//EN
CALSCALE:GREGORIAN
METHOD:PUBLISH
X-WR-CALNAME:VegMichigan
X-ORIGINAL-URL:https://vegmichigan.org
X-WR-CALDESC:Events for VegMichigan
REFRESH-INTERVAL;VALUE=DURATION:PT1H
X-Robots-Tag:noindex
X-PUBLISHED-TTL:PT1H
BEGIN:VTIMEZONE
TZID:America/New_York
BEGIN:DAYLIGHT
TZOFFSETFROM:-0500
TZOFFSETTO:-0400
TZNAME:EDT
DTSTART:20220313T070000
END:DAYLIGHT
BEGIN:STANDARD
TZOFFSETFROM:-0400
TZOFFSETTO:-0500
TZNAME:EST
DTSTART:20221106T060000
END:STANDARD
END:VTIMEZONE
BEGIN:VEVENT
DTSTART;TZID=America/New_York:20220608T113000
DTEND;TZID=America/New_York:20220608T130000
DTSTAMP:20260422T050550
CREATED:20220531T231802Z
LAST-MODIFIED:20220531T231802Z
UID:9033-1654687800-1654693200@vegmichigan.org
SUMMARY:PLANT-BASED COOKING DEMOS AT THE ANN ARBOR FARMERS MARKET
DESCRIPTION:PLANT-BASED COOKING DEMOS AT THE ANN ARBOR FARMERS MARKET \nVegMichigan’s presenter Michele Gallo will give three demos of a delicious dish and pass out samples at Ann Arbor’s Wednesday Farmers Market. \nMichele Gallo is a Certified Health and Wellness Coach\, Certified Plant-Based Professional\, ACSM Certified Exercise Physiologist\, and Whole Food Plant-based Culinary Instructor. She holds certificates in Culinary Coaching from Harvard Medical School and the Institute for Lifestyle Medicine\, ACLM Lifestyle Medicine for Coaches\, T. Colin Campbell Center for Nutrition Studies in Plant-Based Nutrition\, and is Forks Over Knives Plant-Based Certified. She is also a Conference Coordinator for Plant-Based Prevention Of Disease. \nNote: There will be three short demos around lunchtime. The exact times are to be determined.
URL:https://vegmichigan.org/event/plant-based-cooking-demos-at-the-ann-arbor-farmers-market/
ATTACH;FMTTYPE=image/jpeg:https://vegmichigan.org/wp-content/uploads/2022/05/Farmers-social-1080.jpg
END:VEVENT
END:VCALENDAR