BEGIN:VCALENDAR
VERSION:2.0
PRODID:-//VegMichigan - ECPv5.16.1.1//NONSGML v1.0//EN
CALSCALE:GREGORIAN
METHOD:PUBLISH
X-WR-CALNAME:VegMichigan
X-ORIGINAL-URL:https://vegmichigan.org
X-WR-CALDESC:Events for VegMichigan
REFRESH-INTERVAL;VALUE=DURATION:PT1H
X-Robots-Tag:noindex
X-PUBLISHED-TTL:PT1H
BEGIN:VTIMEZONE
TZID:America/New_York
BEGIN:DAYLIGHT
TZOFFSETFROM:-0500
TZOFFSETTO:-0400
TZNAME:EDT
DTSTART:20220313T070000
END:DAYLIGHT
BEGIN:STANDARD
TZOFFSETFROM:-0400
TZOFFSETTO:-0500
TZNAME:EST
DTSTART:20221106T060000
END:STANDARD
END:VTIMEZONE
BEGIN:VEVENT
DTSTART;TZID=America/New_York:20220625T100000
DTEND;TZID=America/New_York:20220625T130000
DTSTAMP:20260422T050549
CREATED:20220615T185535Z
LAST-MODIFIED:20220623T220853Z
UID:9123-1656151200-1656162000@vegmichigan.org
SUMMARY:PLANT-BASED MEAL FOR THE FRIENDS OF THE ROUGE CANOE DAY EVENT
DESCRIPTION:PLANT-BASED MEAL FOR THE FRIENDS OF THE ROUGE CANOE DAY EVENT \nVegMichigan will be joining Friends of the Rouge for National Canoe Day on Saturday\, June 25 from 10 am – 1 pm. We will be providing some plant-based samples from Unburger Grill for attendees to enjoy after their paddle on the river. \nThere will be a paddle trip from Dearborn Hills to Ford Field Park and free canoe and kayak rentals at the Ford Field Park Pond. If you’ve never paddled before\, here is your chance. Spread the word! \nRegistration is required for the canoe trip! Register here – https://therouge.org/water-trail/water-trail-events/ 
URL:https://vegmichigan.org/event/plant-based-meal-for-the-friends-of-the-rouge-canoe-day-event/
ATTACH;FMTTYPE=image/jpeg:https://vegmichigan.org/wp-content/uploads/2022/06/FOTR-2022-National-Canoe-Day-Celebration.jpg
END:VEVENT
END:VCALENDAR