BEGIN:VCALENDAR
VERSION:2.0
PRODID:-//VegMichigan - ECPv5.16.1.1//NONSGML v1.0//EN
CALSCALE:GREGORIAN
METHOD:PUBLISH
X-ORIGINAL-URL:https://vegmichigan.org
X-WR-CALDESC:Events for VegMichigan
REFRESH-INTERVAL;VALUE=DURATION:PT1H
X-Robots-Tag:noindex
X-PUBLISHED-TTL:PT1H
BEGIN:VTIMEZONE
TZID:America/New_York
BEGIN:DAYLIGHT
TZOFFSETFROM:-0500
TZOFFSETTO:-0400
TZNAME:EDT
DTSTART:20220313T070000
END:DAYLIGHT
BEGIN:STANDARD
TZOFFSETFROM:-0400
TZOFFSETTO:-0500
TZNAME:EST
DTSTART:20221106T060000
END:STANDARD
END:VTIMEZONE
BEGIN:VEVENT
DTSTART;TZID=America/New_York:20220629T183000
DTEND;TZID=America/New_York:20220629T193000
DTSTAMP:20260422T050638
CREATED:20220524T142413Z
LAST-MODIFIED:20220628T194506Z
UID:9013-1656527400-1656531000@vegmichigan.org
SUMMARY:PLANT-BASED COOKING: EASY SUMMER RECIPES
DESCRIPTION:PLANT-BASED COOKING: EASY SUMMER RECIPES \nJoin us for a free virtual cooking class by Michele Gallo and Jodi Wollitz! Hosted in partnership with the Blair Memorial Library. \nJoin Zoom Meeting\nhttps://us02web.zoom.us/j/85755981975?pwd=Q2FEdzJyWXBKY2ZOeTFkR3I2UzJFQT09\n\nMeeting ID: 857 5598 1975\nPasscode: 426805\nOne tap mobile\n+13017158592\,\,85755981975#\,\,\,\,*426805# US (Washington DC)\n+13126266799\,\,85755981975#\,\,\,\,*426805# US (Chicago)\n\n\nRECIPES – https://docs.google.com/document/d/148I22Utej_lNZpPd3IxuTS_eZ2k2WZPc0yKd9t-R7sI/edit?usp=sharing  \nMichele Gallo is a Certified Health and Wellness Coach\, Certified Plant-Based Professional\, ACSM Certified Exercise Physiologist\, and Whole Food Plant-based Culinary Instructor. She is certified in Holistic Nutrition and holds certificates in Culinary Coaching from Harvard Medical School and the Institute for Lifestyle Medicine\, ACLM Lifestyle Medicine for Coaches\, T. Colin Campbell Center for Nutrition Studies in Plant-Based Nutrition\, and is Forks Over Knives Plant-Based Certified. She is a Conference Coordinator for the non-profit Plant-Based Prevention Of Disease. \nJodi Wollitz is celebrating her twenty-fifth year as a Michigan private chef. She is certified in Plant-Based Nutrition through the T. Colin Campbell Center for Nutrition Studies at eCornell. She recently graduated from Main Street Vegan Academy as a Certified Vegan Lifestyle Coach and Educator. Jodi has shared her love of cooking by teaching many community cooking classes and demonstrations.
URL:https://vegmichigan.org/event/plant-based-cooking-easy-summer-recipes/
ATTACH;FMTTYPE=image/jpeg:https://vegmichigan.org/wp-content/uploads/2022/02/pexels-sam-lion-5709305-scaled.jpg
END:VEVENT
END:VCALENDAR