BEGIN:VCALENDAR
VERSION:2.0
PRODID:-//VegMichigan - ECPv5.16.1.1//NONSGML v1.0//EN
CALSCALE:GREGORIAN
METHOD:PUBLISH
X-WR-CALNAME:VegMichigan
X-ORIGINAL-URL:https://vegmichigan.org
X-WR-CALDESC:Events for VegMichigan
REFRESH-INTERVAL;VALUE=DURATION:PT1H
X-Robots-Tag:noindex
X-PUBLISHED-TTL:PT1H
BEGIN:VTIMEZONE
TZID:America/New_York
BEGIN:DAYLIGHT
TZOFFSETFROM:-0500
TZOFFSETTO:-0400
TZNAME:EDT
DTSTART:20220313T070000
END:DAYLIGHT
BEGIN:STANDARD
TZOFFSETFROM:-0400
TZOFFSETTO:-0500
TZNAME:EST
DTSTART:20221106T060000
END:STANDARD
END:VTIMEZONE
BEGIN:VEVENT
DTSTART;VALUE=DATE:20220706
DTEND;VALUE=DATE:20220707
DTSTAMP:20260422T063009
CREATED:20220525T171448Z
LAST-MODIFIED:20220525T171448Z
UID:9029-1657065600-1657151999@vegmichigan.org
SUMMARY:PLANT-BASED PLEDGE & GIVEAWAY AT THE BLAIR MEMORIAL LIBRARY
DESCRIPTION:PLANT-BASED PLEDGE & GIVEAWAY AT THE BLAIR MEMORIAL LIBRARY \nVegMichigan will be at the Blair Memorial Library giving away bags of popular plant-based foods to people who signed up for our 30-Day Pledge to eat more plant-based foods.
URL:https://vegmichigan.org/event/plant-based-pledge-giveaway-at-the-blair-memorial-library/
ATTACH;FMTTYPE=image/jpeg:https://vegmichigan.org/wp-content/uploads/2022/02/IMG_2002-scaled.jpg
END:VEVENT
END:VCALENDAR