BEGIN:VCALENDAR
VERSION:2.0
PRODID:-//VegMichigan - ECPv5.16.1.1//NONSGML v1.0//EN
CALSCALE:GREGORIAN
METHOD:PUBLISH
X-WR-CALNAME:VegMichigan
X-ORIGINAL-URL:https://vegmichigan.org
X-WR-CALDESC:Events for VegMichigan
REFRESH-INTERVAL;VALUE=DURATION:PT1H
X-Robots-Tag:noindex
X-PUBLISHED-TTL:PT1H
BEGIN:VTIMEZONE
TZID:America/New_York
BEGIN:DAYLIGHT
TZOFFSETFROM:-0500
TZOFFSETTO:-0400
TZNAME:EDT
DTSTART:20220313T070000
END:DAYLIGHT
BEGIN:STANDARD
TZOFFSETFROM:-0400
TZOFFSETTO:-0500
TZNAME:EST
DTSTART:20221106T060000
END:STANDARD
END:VTIMEZONE
BEGIN:VEVENT
DTSTART;VALUE=DATE:20220714
DTEND;VALUE=DATE:20220715
DTSTAMP:20260422T063011
CREATED:20220627T193143Z
LAST-MODIFIED:20220627T193143Z
UID:9140-1657756800-1657843199@vegmichigan.org
SUMMARY:FREE IMPOSSIBLE WHOPPER GIVEAWAY
DESCRIPTION:FREE IMPOSSIBLE WHOPPER GIVEAWAY \nVegMichigan will be giving away free Impossible Whopper coupons at a local Burger King to people who have never tried one before.
URL:https://vegmichigan.org/event/free-impossible-whopper-giveaway-3/
ATTACH;FMTTYPE=image/png:https://vegmichigan.org/wp-content/uploads/2022/06/Screen-Shot-2022-06-27-at-3.24.12-PM.png
END:VEVENT
END:VCALENDAR