BEGIN:VCALENDAR
VERSION:2.0
PRODID:-//VegMichigan - ECPv5.16.1.1//NONSGML v1.0//EN
CALSCALE:GREGORIAN
METHOD:PUBLISH
X-WR-CALNAME:VegMichigan
X-ORIGINAL-URL:https://vegmichigan.org
X-WR-CALDESC:Events for VegMichigan
REFRESH-INTERVAL;VALUE=DURATION:PT1H
X-Robots-Tag:noindex
X-PUBLISHED-TTL:PT1H
BEGIN:VTIMEZONE
TZID:America/New_York
BEGIN:DAYLIGHT
TZOFFSETFROM:-0500
TZOFFSETTO:-0400
TZNAME:EDT
DTSTART:20220313T070000
END:DAYLIGHT
BEGIN:STANDARD
TZOFFSETFROM:-0400
TZOFFSETTO:-0500
TZNAME:EST
DTSTART:20221106T060000
END:STANDARD
END:VTIMEZONE
BEGIN:VEVENT
DTSTART;TZID=America/New_York:20220716T090000
DTEND;TZID=America/New_York:20220716T120000
DTSTAMP:20260422T063010
CREATED:20220630T161704Z
LAST-MODIFIED:20220630T161704Z
UID:9366-1657962000-1657972800@vegmichigan.org
SUMMARY:VOLUNTEER MEETUP AT THE FARM ST. JOE'S
DESCRIPTION:VOLUNTEER MEETUP AT THE FARM ST. JOE’S \nJoin us for a fun few hours of volunteering outside at The Farm at St. Joe’s. \nLocated at – 5557 McAuley Dr\, Ypsilanti\, MI 48197 \nPlease wear proper shoes and clothes for working outside on a farm. We highly recommend you bring a water bottle\, a hat for extra sun protection\, and sunscreen. \nPotential tasks will include weeding\, harvesting produce\, and possibly moving mulch or dirt to fill raised beds. \nRSVP Required – RSVP through our Ann Arbor Meetup group or through our Detroit Meetup group. \nNote: Please do not bring children under the age of 14. If you want to bring younger children\, email olivia@vegmichigan.org ASAP and I will see if they can be accommodated.
URL:https://vegmichigan.org/event/volunteer-meetup-at-the-farm-st-joes/
ATTACH;FMTTYPE=image/png:https://vegmichigan.org/wp-content/uploads/2022/06/Screen-Shot-2022-06-30-at-11.54.07-AM.png
END:VEVENT
END:VCALENDAR