BEGIN:VCALENDAR
VERSION:2.0
PRODID:-//VegMichigan - ECPv5.16.1.1//NONSGML v1.0//EN
CALSCALE:GREGORIAN
METHOD:PUBLISH
X-ORIGINAL-URL:https://vegmichigan.org
X-WR-CALDESC:Events for VegMichigan
REFRESH-INTERVAL;VALUE=DURATION:PT1H
X-Robots-Tag:noindex
X-PUBLISHED-TTL:PT1H
BEGIN:VTIMEZONE
TZID:America/New_York
BEGIN:DAYLIGHT
TZOFFSETFROM:-0500
TZOFFSETTO:-0400
TZNAME:EDT
DTSTART:20220313T070000
END:DAYLIGHT
BEGIN:STANDARD
TZOFFSETFROM:-0400
TZOFFSETTO:-0500
TZNAME:EST
DTSTART:20221106T060000
END:STANDARD
END:VTIMEZONE
BEGIN:VEVENT
DTSTART;TZID=America/New_York:20220728T183000
DTEND;TZID=America/New_York:20220728T193000
DTSTAMP:20260422T063124
CREATED:20220701T133924Z
LAST-MODIFIED:20220701T133924Z
UID:9370-1659033000-1659036600@vegmichigan.org
SUMMARY:PLANT-BASED NUTRITION (IN-PERSON)
DESCRIPTION:PLANT-BASED NUTRITION (IN-PERSON) \nVegMichigan is excited to partner with the Romulus Public Library for a Plant-Based Nutrition presentation by Chantal Singer\, RDN. \nAre you ready to begin your journey to a healthier life? Eating more plant-based foods can help! Chantal Singer will discuss the benefits of adding more plant-based foods to your diet. She will share with you all of the best plant-based foods you should be eating that are not only super nutritious but incredibly delicious as well! \nChantal Singer is a Registered Dietitian Nutritionist for St. Joseph Mercy Health System’s Michigan Heart & Vascular Institute teaching plant-based eating and lifestyle medicine. Chantal is very passionate about plant-based eating for human health\, planetary health\, and animal welfare. She can be found on Instagram @plant_based_nutritionist. \nThis event is in person at the Romulus Public Library. \n11121 Wayne Rd\, Romulus\, MI 48174
URL:https://vegmichigan.org/event/plant-based-nutrition-in-person/
ATTACH;FMTTYPE=image/jpeg:https://vegmichigan.org/wp-content/uploads/2022/06/E7211BB0-C364-4F30-B75E-42C564B00E9E-e1656610002457.jpg
END:VEVENT
END:VCALENDAR