BEGIN:VCALENDAR
VERSION:2.0
PRODID:-//VegMichigan - ECPv5.16.1.1//NONSGML v1.0//EN
CALSCALE:GREGORIAN
METHOD:PUBLISH
X-WR-CALNAME:VegMichigan
X-ORIGINAL-URL:https://vegmichigan.org
X-WR-CALDESC:Events for VegMichigan
REFRESH-INTERVAL;VALUE=DURATION:PT1H
X-Robots-Tag:noindex
X-PUBLISHED-TTL:PT1H
BEGIN:VTIMEZONE
TZID:America/New_York
BEGIN:DAYLIGHT
TZOFFSETFROM:-0500
TZOFFSETTO:-0400
TZNAME:EDT
DTSTART:20220313T070000
END:DAYLIGHT
BEGIN:STANDARD
TZOFFSETFROM:-0400
TZOFFSETTO:-0500
TZNAME:EST
DTSTART:20221106T060000
END:STANDARD
END:VTIMEZONE
BEGIN:VEVENT
DTSTART;TZID=America/New_York:20220803T190000
DTEND;TZID=America/New_York:20220803T200000
DTSTAMP:20260422T063010
CREATED:20220727T163621Z
LAST-MODIFIED:20220729T163138Z
UID:9528-1659553200-1659556800@vegmichigan.org
SUMMARY:PLANT-BASED COOKING DEMO: SUPER EASY SUMMER RECIPES
DESCRIPTION:PLANT-BASED COOKING DEMO: SUPER EASY SUMMER RECIPES \nJoin us for a virtual\, plant-based cooking demo featuring in-season produce and easy summer recipes by Vicki Brett-Gach and Michelle Gallo. Hosted in partnership with the Northville Library. \nVicki Brett-Gach is a sugar-free\, oil-free Certified Personal Chef\, Master-Certified Vegan Lifestyle Coach\, and Plant-Based Culinary Instructor\, and is the author of “The Plant-Based for Life Cookbook: Deliciously Simple Recipes to Nourish\, Comfort\, Energize and Renew.” \nVicki is a graduate of Dr. McDougall’s Starch Solution Certification program and is Forks Over Knives Plant-Based Certified. Vicki is trained in Nutrition for a Healthy Heart\, and in Dietary Therapy for Reversing Common Diseases\, and holds certificates in Plant-Based Nutrition (through the T. Colin Campbell Center for Nutrition Studies)\, in Wellness Counseling (through Cornell University)\, and in Culinary Coaching (through Harvard Medical School and The Institute of Lifestyle Medicine). As a coach\, Vicki works with individual clients\, often helping them reverse health challenges and chronic conditions\, and teaches whole food plant-based cooking classes to groups of all sizes\, with a focus on helping people learn how to make eating healthy EASY.  \nVicki is the creator of the Ann Arbor Vegan Kitchen blog\, and her recipes have been featured in The McDougall Newsletter\, Center For Nutrition Studies Newsletter\, and in multiple magazines and cookbooks. Stay connected with Vicki at AnnArborVeganKitchen.com\, for new recipes as soon as they are published\, and for additional details about her new cookbook. \nMichele Gallo is a Certified Health and Wellness Coach\, Certified Plant-Based Professional\, ACSM Certified Exercise Physiologist\, and Whole Food Plant-based Culinary Instructor. She is certified in Holistic Nutrition and holds certificates in Culinary Coaching from Harvard Medical School and the Institute for Lifestyle Medicine\, ACLM Lifestyle Medicine for Coaches\, T. Colin Campbell Center for Nutrition Studies in Plant-Based Nutrition\, and is Forks Over Knives Plant-Based Certified. She is a Conference Coordinator for the non-profit Plant-Based Prevention Of Disease. \n  \nCheck out the demo recipes – https://docs.google.com/document/d/14YJ7P_onJ3JjyOnsYebdCKPc8Z–K5lzS94zwo8x9XA/edit?usp=sharing \n  \nJoin Zoom Meeting\nhttps://us02web.zoom.us/j/85383979835?pwd=RzI1VWVhR2o5MGlud0Q1Z2lGOUY5UT09\n\nMeeting ID: 853 8397 9835\nPasscode: 449776
URL:https://vegmichigan.org/event/plant-based-cooking-demo-super-easy-summer-recipes/
ATTACH;FMTTYPE=image/jpeg:https://vegmichigan.org/wp-content/uploads/2022/07/DSC08964-1.jpeg.jpeg
END:VEVENT
END:VCALENDAR