BEGIN:VCALENDAR
VERSION:2.0
PRODID:-//VegMichigan - ECPv5.16.1.1//NONSGML v1.0//EN
CALSCALE:GREGORIAN
METHOD:PUBLISH
X-ORIGINAL-URL:https://vegmichigan.org
X-WR-CALDESC:Events for VegMichigan
REFRESH-INTERVAL;VALUE=DURATION:PT1H
X-Robots-Tag:noindex
X-PUBLISHED-TTL:PT1H
BEGIN:VTIMEZONE
TZID:America/New_York
BEGIN:DAYLIGHT
TZOFFSETFROM:-0500
TZOFFSETTO:-0400
TZNAME:EDT
DTSTART:20220313T070000
END:DAYLIGHT
BEGIN:STANDARD
TZOFFSETFROM:-0400
TZOFFSETTO:-0500
TZNAME:EST
DTSTART:20221106T060000
END:STANDARD
END:VTIMEZONE
BEGIN:VEVENT
DTSTART;VALUE=DATE:20220825
DTEND;VALUE=DATE:20220826
DTSTAMP:20260422T080543
CREATED:20220804T150257Z
LAST-MODIFIED:20220804T150257Z
UID:9638-1661385600-1661471999@vegmichigan.org
SUMMARY:30-DAY PLEDGE GIVEAWAY WITH THE CITY OF ANN ARBOR CANOE LIVERIES' STAFF
DESCRIPTION:30-DAY PLEDGE GIVEAWAY WITH THE CITY OF ANN ARBOR CANOE LIVERIES’ STAFF \nVegMichigan is signing up Ann Arbor Canoe Livery Staff to our 30-Day Pledge program as well as promoting the city of Ann Arbor’s Plant-Based Eating Challenge Week.
URL:https://vegmichigan.org/event/30-day-pledge-giveaway-with-the-city-of-ann-arbor-canoe-liveries-staff/
ATTACH;FMTTYPE=image/jpeg:https://vegmichigan.org/wp-content/uploads/2022/08/IMG_1388-scaled.jpg
END:VEVENT
END:VCALENDAR