BEGIN:VCALENDAR
VERSION:2.0
PRODID:-//VegMichigan - ECPv5.16.1.1//NONSGML v1.0//EN
CALSCALE:GREGORIAN
METHOD:PUBLISH
X-ORIGINAL-URL:https://vegmichigan.org
X-WR-CALDESC:Events for VegMichigan
REFRESH-INTERVAL;VALUE=DURATION:PT1H
X-Robots-Tag:noindex
X-PUBLISHED-TTL:PT1H
BEGIN:VTIMEZONE
TZID:America/New_York
BEGIN:DAYLIGHT
TZOFFSETFROM:-0500
TZOFFSETTO:-0400
TZNAME:EDT
DTSTART:20220313T070000
END:DAYLIGHT
BEGIN:STANDARD
TZOFFSETFROM:-0400
TZOFFSETTO:-0500
TZNAME:EST
DTSTART:20221106T060000
END:STANDARD
END:VTIMEZONE
BEGIN:VEVENT
DTSTART;VALUE=DATE:20220907
DTEND;VALUE=DATE:20220908
DTSTAMP:20260422T094232
CREATED:20220829T214904Z
LAST-MODIFIED:20220829T214904Z
UID:9757-1662508800-1662595199@vegmichigan.org
SUMMARY:30-DAY PLEDGE GIVEAWAY AT BYOC
DESCRIPTION:30-DAY PLEDGE GIVEAWAY AT BYOC \nVegMichigan is signing up BYOC Co. patrons to our 30-Day Pledge program as well as promoting the city of Ann Arbor’s Plant-Based Eating Challenge Week.
URL:https://vegmichigan.org/event/30-day-pledge-giveaway-at-byoc/
ATTACH;FMTTYPE=image/webp:https://vegmichigan.org/wp-content/uploads/2022/08/50D47F37-6C80-4BBB-B74A-CA1E391BB501_048e1e08-7816-4289-b46a-1458ecad03a5.jpg.webp
END:VEVENT
END:VCALENDAR