BEGIN:VCALENDAR
VERSION:2.0
PRODID:-//VegMichigan - ECPv5.16.1.1//NONSGML v1.0//EN
CALSCALE:GREGORIAN
METHOD:PUBLISH
X-ORIGINAL-URL:https://vegmichigan.org
X-WR-CALDESC:Events for VegMichigan
REFRESH-INTERVAL;VALUE=DURATION:PT1H
X-Robots-Tag:noindex
X-PUBLISHED-TTL:PT1H
BEGIN:VTIMEZONE
TZID:America/New_York
BEGIN:DAYLIGHT
TZOFFSETFROM:-0500
TZOFFSETTO:-0400
TZNAME:EDT
DTSTART:20220313T070000
END:DAYLIGHT
BEGIN:STANDARD
TZOFFSETFROM:-0400
TZOFFSETTO:-0500
TZNAME:EST
DTSTART:20221106T060000
END:STANDARD
END:VTIMEZONE
BEGIN:VEVENT
DTSTART;TZID=America/New_York:20220911T100000
DTEND;TZID=America/New_York:20220911T120000
DTSTAMP:20260422T094231
CREATED:20220805T145258Z
LAST-MODIFIED:20220805T145457Z
UID:9652-1662890400-1662897600@vegmichigan.org
SUMMARY:A2 ZERO PLANT-BASED CHALLENGE WEEK KICK-OFF
DESCRIPTION:​A2 ZERO PLANT-BASED CHALLENGE WEEK KICK-OFF \nJoin us at Cobblestone Farm (2781 Packard St.) for the A2ZERO Plant-Based Challenge kick-off event! \nDuring the event\, you’ll hear from our A2ZERO Ambassadors\, the Office of Sustainability and Innovations\, VegMichigan\, and a guest speaker about the benefits of plant-forward diets and about the exciting events coming up during the week. We’ll also have plant-based brunch items from local restaurants\, games and activities\, and music! \nThis event will also be a distribution event for VegMichigan’s 30-Day Pledge bags. Please RSVP for this event by filling out the pre-challenge survey.
URL:https://vegmichigan.org/event/a2-zero-plant-based-challenge-week-kick-off/
LOCATION:Cobblestone Farm\, 2781 Packard St.
ATTACH;FMTTYPE=image/jpeg:https://vegmichigan.org/wp-content/uploads/2022/02/pexels-fuzzy-rescue-3669638-3-scaled.jpg
END:VEVENT
END:VCALENDAR