BEGIN:VCALENDAR
VERSION:2.0
PRODID:-//VegMichigan - ECPv5.16.1.1//NONSGML v1.0//EN
CALSCALE:GREGORIAN
METHOD:PUBLISH
X-ORIGINAL-URL:https://vegmichigan.org
X-WR-CALDESC:Events for VegMichigan
REFRESH-INTERVAL;VALUE=DURATION:PT1H
X-Robots-Tag:noindex
X-PUBLISHED-TTL:PT1H
BEGIN:VTIMEZONE
TZID:America/New_York
BEGIN:DAYLIGHT
TZOFFSETFROM:-0500
TZOFFSETTO:-0400
TZNAME:EDT
DTSTART:20220313T070000
END:DAYLIGHT
BEGIN:STANDARD
TZOFFSETFROM:-0400
TZOFFSETTO:-0500
TZNAME:EST
DTSTART:20221106T060000
END:STANDARD
END:VTIMEZONE
BEGIN:VEVENT
DTSTART;TZID=America/New_York:20220913T190000
DTEND;TZID=America/New_York:20220913T200000
DTSTAMP:20260422T094230
CREATED:20220805T161027Z
LAST-MODIFIED:20220805T161027Z
UID:9658-1663095600-1663099200@vegmichigan.org
SUMMARY:VIRTUAL DISCUSSION WITH LOCAL A2 RESTAURANT OWNERS - A2 ZERO PLANT-BASED CHALLENGE EVENT
DESCRIPTION:VIRTUAL DISCUSSION WITH LOCAL A2 RESTAURANT OWNERS – A2 ZERO PLANT-BASED CHALLENGE EVENT \nJoin OSI\, the A2ZERO Ambassadors\, and a panel of local restaurant owners to learn about how their restaurants are incorporating plant-based meals into their menus\, where they get their ingredients\, other sustainability efforts they’re undertaking\, and more! \nMore details coming soon. \nRegister for this Zoom webinar here.
URL:https://vegmichigan.org/event/virtual-discussion-with-local-a2-restaurant-owners-a2-zero-plant-based-challenge-event/
ATTACH;FMTTYPE=image/jpeg:https://vegmichigan.org/wp-content/uploads/2022/08/pexels-akil-mazumder-1072824-3-scaled.jpg
END:VEVENT
END:VCALENDAR