BEGIN:VCALENDAR
VERSION:2.0
PRODID:-//VegMichigan - ECPv5.16.1.1//NONSGML v1.0//EN
CALSCALE:GREGORIAN
METHOD:PUBLISH
X-WR-CALNAME:VegMichigan
X-ORIGINAL-URL:https://vegmichigan.org
X-WR-CALDESC:Events for VegMichigan
REFRESH-INTERVAL;VALUE=DURATION:PT1H
X-Robots-Tag:noindex
X-PUBLISHED-TTL:PT1H
BEGIN:VTIMEZONE
TZID:America/New_York
BEGIN:DAYLIGHT
TZOFFSETFROM:-0500
TZOFFSETTO:-0400
TZNAME:EDT
DTSTART:20220313T070000
END:DAYLIGHT
BEGIN:STANDARD
TZOFFSETFROM:-0400
TZOFFSETTO:-0500
TZNAME:EST
DTSTART:20221106T060000
END:STANDARD
END:VTIMEZONE
BEGIN:VEVENT
DTSTART;TZID=America/New_York:20220916T180000
DTEND;TZID=America/New_York:20220916T193000
DTSTAMP:20260422T094315
CREATED:20220805T163122Z
LAST-MODIFIED:20220805T163122Z
UID:9667-1663351200-1663356600@vegmichigan.org
SUMMARY:PLANT-BASED PIZZA PARTY - A2 ZERO PLANT-BASED CHALLENGE EVENT
DESCRIPTION:PLANT-BASED PIZZA PARTY – A2 ZERO PLANT-BASED CHALLENGE EVENT \n​Join OSI\, the A2ZERO Ambassadors\, and VegMichigan at the Maas Shelter in Gallup Park ​(3175 Gallup Park Rd.) for a plant-based pizza party catered by Cottage Inn. Come for the pizza and stay for the games\, activities\, and music! \nThis event will also be a distribution event for VegMichigan’s 30-Day Pledge bags. \nPlease RSVP for this event by filling out the pre-challenge survey​.
URL:https://vegmichigan.org/event/plant-based-pizza-party-a2-zero-plant-based-challenge-event/
ATTACH;FMTTYPE=image/png:https://vegmichigan.org/wp-content/uploads/2020/10/cottage-inn-goes-vegan-1-e1581091752123.png
END:VEVENT
END:VCALENDAR