BEGIN:VCALENDAR
VERSION:2.0
PRODID:-//VegMichigan - ECPv5.16.1.1//NONSGML v1.0//EN
CALSCALE:GREGORIAN
METHOD:PUBLISH
X-WR-CALNAME:VegMichigan
X-ORIGINAL-URL:https://vegmichigan.org
X-WR-CALDESC:Events for VegMichigan
REFRESH-INTERVAL;VALUE=DURATION:PT1H
X-Robots-Tag:noindex
X-PUBLISHED-TTL:PT1H
BEGIN:VTIMEZONE
TZID:America/New_York
BEGIN:DAYLIGHT
TZOFFSETFROM:-0500
TZOFFSETTO:-0400
TZNAME:EDT
DTSTART:20220313T070000
END:DAYLIGHT
BEGIN:STANDARD
TZOFFSETFROM:-0400
TZOFFSETTO:-0500
TZNAME:EST
DTSTART:20221106T060000
END:STANDARD
END:VTIMEZONE
BEGIN:VEVENT
DTSTART;VALUE=DATE:20220923
DTEND;VALUE=DATE:20220924
DTSTAMP:20260422T094315
CREATED:20220801T150333Z
LAST-MODIFIED:20220801T150333Z
UID:9609-1663891200-1663977599@vegmichigan.org
SUMMARY:RELEAF MICHIGAN'S TREETACULAR
DESCRIPTION:RELEAF MICHIGAN’S TREETACULAR \nVegMichigan will be providing delicious plant-based food samples for attendees at ReLeaf Michigan’s TreeTacular.
URL:https://vegmichigan.org/event/releaf-michigans-treetacular/
ATTACH;FMTTYPE=image/jpeg:https://vegmichigan.org/wp-content/uploads/2022/08/unnamed-1.jpg
END:VEVENT
END:VCALENDAR