BEGIN:VCALENDAR
VERSION:2.0
PRODID:-//VegMichigan - ECPv5.16.1.1//NONSGML v1.0//EN
CALSCALE:GREGORIAN
METHOD:PUBLISH
X-ORIGINAL-URL:https://vegmichigan.org
X-WR-CALDESC:Events for VegMichigan
REFRESH-INTERVAL;VALUE=DURATION:PT1H
X-Robots-Tag:noindex
X-PUBLISHED-TTL:PT1H
BEGIN:VTIMEZONE
TZID:America/New_York
BEGIN:DAYLIGHT
TZOFFSETFROM:-0500
TZOFFSETTO:-0400
TZNAME:EDT
DTSTART:20220313T070000
END:DAYLIGHT
BEGIN:STANDARD
TZOFFSETFROM:-0400
TZOFFSETTO:-0500
TZNAME:EST
DTSTART:20221106T060000
END:STANDARD
END:VTIMEZONE
BEGIN:VEVENT
DTSTART;VALUE=DATE:20221004
DTEND;VALUE=DATE:20221005
DTSTAMP:20260422T114035
CREATED:20221003T180659Z
LAST-MODIFIED:20221003T180659Z
UID:9977-1664841600-1664927999@vegmichigan.org
SUMMARY:PANDA EXPRESS BEYOND ORANGE CHICKEN GIVEAWAY AT U OF M
DESCRIPTION:PANDA EXPRESS BEYOND ORANGE CHICKEN GIVEAWAY AT U OF M \nVegMichigan will be giving out free samples of Plant-Based Beyond Orange Chicken from Panda Express to UofM students.
URL:https://vegmichigan.org/event/panda-express-beyond-orange-chicken-giveaway-at-u-of-m/
ATTACH;FMTTYPE=image/png:https://vegmichigan.org/wp-content/uploads/2022/10/Screen-Shot-2022-10-03-at-2.03.54-PM.png
END:VEVENT
END:VCALENDAR