BEGIN:VCALENDAR
VERSION:2.0
PRODID:-//VegMichigan - ECPv5.16.1.1//NONSGML v1.0//EN
CALSCALE:GREGORIAN
METHOD:PUBLISH
X-WR-CALNAME:VegMichigan
X-ORIGINAL-URL:https://vegmichigan.org
X-WR-CALDESC:Events for VegMichigan
REFRESH-INTERVAL;VALUE=DURATION:PT1H
X-Robots-Tag:noindex
X-PUBLISHED-TTL:PT1H
BEGIN:VTIMEZONE
TZID:America/New_York
BEGIN:DAYLIGHT
TZOFFSETFROM:-0500
TZOFFSETTO:-0400
TZNAME:EDT
DTSTART:20220313T070000
END:DAYLIGHT
BEGIN:STANDARD
TZOFFSETFROM:-0400
TZOFFSETTO:-0500
TZNAME:EST
DTSTART:20221106T060000
END:STANDARD
END:VTIMEZONE
BEGIN:VEVENT
DTSTART;VALUE=DATE:20221008
DTEND;VALUE=DATE:20221009
DTSTAMP:20260422T151804
CREATED:20220818T172131Z
LAST-MODIFIED:20220914T135317Z
UID:9712-1665187200-1665273599@vegmichigan.org
SUMMARY:PLANT-BASED FOOD TAILGATE AT MSU FOOTBALL GAME
DESCRIPTION:PLANT-BASED FOOD TAILGATE AT MSU FOOTBALL GAME \nVegMichigan will be tailgating and giving away free plant-based food samples to passersby before the Michigan State football game.
URL:https://vegmichigan.org/event/plant-based-food-tailgate-at-msu-football-game/
ATTACH;FMTTYPE=image/jpeg:https://vegmichigan.org/wp-content/uploads/2022/08/dave-adamson-nATH0CrkMU-unsplash-scaled.jpg
END:VEVENT
END:VCALENDAR