BEGIN:VCALENDAR
VERSION:2.0
PRODID:-//VegMichigan - ECPv5.16.1.1//NONSGML v1.0//EN
CALSCALE:GREGORIAN
METHOD:PUBLISH
X-ORIGINAL-URL:https://vegmichigan.org
X-WR-CALDESC:Events for VegMichigan
REFRESH-INTERVAL;VALUE=DURATION:PT1H
X-Robots-Tag:noindex
X-PUBLISHED-TTL:PT1H
BEGIN:VTIMEZONE
TZID:America/New_York
BEGIN:DAYLIGHT
TZOFFSETFROM:-0500
TZOFFSETTO:-0400
TZNAME:EDT
DTSTART:20220313T070000
END:DAYLIGHT
BEGIN:STANDARD
TZOFFSETFROM:-0400
TZOFFSETTO:-0500
TZNAME:EST
DTSTART:20221106T060000
END:STANDARD
END:VTIMEZONE
BEGIN:VEVENT
DTSTART;VALUE=DATE:20221013
DTEND;VALUE=DATE:20221014
DTSTAMP:20260422T151922
CREATED:20220928T181245Z
LAST-MODIFIED:20220928T181245Z
UID:9867-1665619200-1665705599@vegmichigan.org
SUMMARY:30-DAY PLEDGE GIVEAWAY FOR SWEETWATERS' STAFF
DESCRIPTION:30-DAY PLEDGE GIVEAWAY FOR SWEETWATERS’ STAFF \nVegMichigan is partnering with Sweetwaters Cafe to sign their staff up for our 30-Day Pledge and Plant-Based Food Giveaway.
URL:https://vegmichigan.org/event/30-day-pledge-giveaway-for-sweetwaters-staff/
ATTACH;FMTTYPE=image/jpeg:https://vegmichigan.org/wp-content/uploads/2022/09/pexels-pixabay-414630-scaled.jpg
END:VEVENT
BEGIN:VEVENT
DTSTART;TZID=America/New_York:20221013T170000
DTEND;TZID=America/New_York:20221013T220000
DTSTAMP:20260422T151922
CREATED:20221005T174402Z
LAST-MODIFIED:20221005T174402Z
UID:9999-1665680400-1665698400@vegmichigan.org
SUMMARY:ANN ARBOR LOCAL FOOD FESTIVAL
DESCRIPTION:ANN ARBOR LOCAL FOOD FESTIVAL \n​​The Ann Arbor Office of Sustain​ability and Innovations and Argus Farm Stop are ​excited to announce the Ann Arbor Local Food Festival\, an event to celebrate and enjoy the abundance of this year’s harvest from local farms. This event will sho​​wcase the many restaurants\, chefs\, and others in the Ann Arbor area who prioritize local ingredients at their businesses. It will also offer opportunities for community members to hear the stories of those who produce their food – our local farmers and the organizations focused on elevating those farmers and their products.   \nLearn more here – https://www.a2gov.org/departments/sustainability/Sustainability-Me/Families-Individuals/Pages/Local-Food-Festival.aspx
URL:https://vegmichigan.org/event/ann-arbor-local-food-festival-2/
ATTACH;FMTTYPE=image/jpeg:https://vegmichigan.org/wp-content/uploads/2022/10/pexels-erik-scheel-95425-2-scaled.jpg
END:VEVENT
END:VCALENDAR