BEGIN:VCALENDAR
VERSION:2.0
PRODID:-//VegMichigan - ECPv5.16.1.1//NONSGML v1.0//EN
CALSCALE:GREGORIAN
METHOD:PUBLISH
X-ORIGINAL-URL:https://vegmichigan.org
X-WR-CALDESC:Events for VegMichigan
REFRESH-INTERVAL;VALUE=DURATION:PT1H
X-Robots-Tag:noindex
X-PUBLISHED-TTL:PT1H
BEGIN:VTIMEZONE
TZID:America/New_York
BEGIN:DAYLIGHT
TZOFFSETFROM:-0500
TZOFFSETTO:-0400
TZNAME:EDT
DTSTART:20220313T070000
END:DAYLIGHT
BEGIN:STANDARD
TZOFFSETFROM:-0400
TZOFFSETTO:-0500
TZNAME:EST
DTSTART:20221106T060000
END:STANDARD
END:VTIMEZONE
BEGIN:VEVENT
DTSTART;VALUE=DATE:20221113
DTEND;VALUE=DATE:20221114
DTSTAMP:20260422T170905
CREATED:20221108T191541Z
LAST-MODIFIED:20221108T191541Z
UID:10146-1668297600-1668383999@vegmichigan.org
SUMMARY:30-DAY PLEDGE WITH UNIVERSITY OF MICHIGAN CHI OMEGA MEMBERS
DESCRIPTION:30-DAY PLEDGE WITH UNIVERSITY OF MICHIGAN CHI OMEGA MEMBERS \n30-Day Pledge with the University of Michigan Chi Omega members.
URL:https://vegmichigan.org/event/30-day-pledge-with-university-of-michigan-chi-omega-members/
ATTACH;FMTTYPE=image/jpeg:https://vegmichigan.org/wp-content/uploads/2022/01/pexels-fuzzy-rescue-3669638-2-scaled.jpg
END:VEVENT
BEGIN:VEVENT
DTSTART;TZID=America/New_York:20221113T140000
DTEND;TZID=America/New_York:20221113T153000
DTSTAMP:20260422T170905
CREATED:20221026T205728Z
LAST-MODIFIED:20221102T134939Z
UID:10099-1668348000-1668353400@vegmichigan.org
SUMMARY:BOOK CLUB DISCUSSION OF VIDEOS: QUEERING ANIMAL LIBERATION
DESCRIPTION:BOOK CLUB DISCUSSION OF VIDEOS: QUEERING ANIMAL LIBERATION\n\nWe’re doing something different for our next Book Club. \nWe’re starting an hour later than usual\, and instead of a book\, we will be discussing two videos on the theme of queering animal liberation: \n1. Christopher-Sebastian McJetters – Queering Animal Liberation: Why Animal Rights Is a Queer Issue (39:46)\n“This talk is a broad overview of the multiple connections between animal liberation and queer liberation from an American queer Black perspective.” \n2. In Context: Queering Animal Liberation with Christopher Sebastian (42:32)\n“In this interview\, Christopher Sebastian sits down with pattrice jones\, of VINE Sanctuary\, to discuss queering animal liberation\, toxic masculinity\, and much more.” \nPlease register here for the zoom link. Once you register\, you will receive an email from Zoom with the link to the meeting.
URL:https://vegmichigan.org/event/book-club-discussion-of-videos-queering-animal-liberation/
ATTACH;FMTTYPE=image/jpeg:https://vegmichigan.org/wp-content/uploads/2022/10/jorge-maya-Ovw4vkqciX8-unsplash-scaled.jpg
END:VEVENT
END:VCALENDAR