BEGIN:VCALENDAR
VERSION:2.0
PRODID:-//VegMichigan - ECPv5.16.1.1//NONSGML v1.0//EN
CALSCALE:GREGORIAN
METHOD:PUBLISH
X-ORIGINAL-URL:https://vegmichigan.org
X-WR-CALDESC:Events for VegMichigan
REFRESH-INTERVAL;VALUE=DURATION:PT1H
X-Robots-Tag:noindex
X-PUBLISHED-TTL:PT1H
BEGIN:VTIMEZONE
TZID:America/New_York
BEGIN:DAYLIGHT
TZOFFSETFROM:-0500
TZOFFSETTO:-0400
TZNAME:EDT
DTSTART:20220313T070000
END:DAYLIGHT
BEGIN:STANDARD
TZOFFSETFROM:-0400
TZOFFSETTO:-0500
TZNAME:EST
DTSTART:20221106T060000
END:STANDARD
END:VTIMEZONE
BEGIN:VEVENT
DTSTART;VALUE=DATE:20221122
DTEND;VALUE=DATE:20221123
DTSTAMP:20260422T170906
CREATED:20221119T051917Z
LAST-MODIFIED:20221119T051917Z
UID:10155-1669075200-1669161599@vegmichigan.org
SUMMARY:PLANT-BASED PRESENTATION AND 30-DAY PLEDGE (PRIVATE EVENT)
DESCRIPTION:PLANT-BASED PRESENTATION AND 30-DAY PLEDGE (PRIVATE EVENT) \nVegMichigan will be presenting the health\, ethical\, and environmental benefits of a plant-based diet and distributing 30-Day Pledge bags to the staff at ISR.
URL:https://vegmichigan.org/event/plant-based-presentation-and-30-day-pledge-private-event/
ATTACH;FMTTYPE=image/jpeg:https://vegmichigan.org/wp-content/uploads/2022/11/Plant-based-presentation.jpg
END:VEVENT
END:VCALENDAR