BEGIN:VCALENDAR
VERSION:2.0
PRODID:-//VegMichigan - ECPv5.16.1.1//NONSGML v1.0//EN
CALSCALE:GREGORIAN
METHOD:PUBLISH
X-WR-CALNAME:VegMichigan
X-ORIGINAL-URL:https://vegmichigan.org
X-WR-CALDESC:Events for VegMichigan
REFRESH-INTERVAL;VALUE=DURATION:PT1H
X-Robots-Tag:noindex
X-PUBLISHED-TTL:PT1H
BEGIN:VTIMEZONE
TZID:America/New_York
BEGIN:DAYLIGHT
TZOFFSETFROM:-0500
TZOFFSETTO:-0400
TZNAME:EDT
DTSTART:20220313T070000
END:DAYLIGHT
BEGIN:STANDARD
TZOFFSETFROM:-0400
TZOFFSETTO:-0500
TZNAME:EST
DTSTART:20221106T060000
END:STANDARD
END:VTIMEZONE
BEGIN:VEVENT
DTSTART;TZID=America/New_York:20221210T120000
DTEND;TZID=America/New_York:20221210T140000
DTSTAMP:20260422T190429
CREATED:20221119T045543Z
LAST-MODIFIED:20221119T045543Z
UID:10148-1670673600-1670680800@vegmichigan.org
SUMMARY:ANN ARBOR LUNCH MEETUP AT FRESH FORAGE
DESCRIPTION:ANN ARBOR LUNCH MEETUP AT FRESH FORAGE \nFresh Forage in Ann Arbor offers delicious vegan and gluten-free options while being allergy and diet friendly. Check out their menu. \nYou will have a difficult time deciding from the variety of bowls\, wraps\, sides\, smoothies\, and coffee/tea drinks. \nAll are welcome\, no matter where you are in your journey\, from omnivores to longtime vegans. Come meet new and old friends and explore the wonderful vegan options of Fresh Forage! \nPlease RSVP for the event on our VegMichigan Ann Arbor Meetup page – https://www.meetup.com/vegmichigan-greater-ann-arbor-area/events/289788461/ \nSee you then!
URL:https://vegmichigan.org/event/ann-arbor-lunch-meetup-at-fresh-forage/
ATTACH;FMTTYPE=image/webp:https://vegmichigan.org/wp-content/uploads/2022/11/676x380-2.webp
END:VEVENT
END:VCALENDAR