BEGIN:VCALENDAR
VERSION:2.0
PRODID:-//VegMichigan - ECPv5.16.1.1//NONSGML v1.0//EN
CALSCALE:GREGORIAN
METHOD:PUBLISH
X-WR-CALNAME:VegMichigan
X-ORIGINAL-URL:https://vegmichigan.org
X-WR-CALDESC:Events for VegMichigan
REFRESH-INTERVAL;VALUE=DURATION:PT1H
X-Robots-Tag:noindex
X-PUBLISHED-TTL:PT1H
BEGIN:VTIMEZONE
TZID:America/New_York
BEGIN:DAYLIGHT
TZOFFSETFROM:-0500
TZOFFSETTO:-0400
TZNAME:EDT
DTSTART:20220313T070000
END:DAYLIGHT
BEGIN:STANDARD
TZOFFSETFROM:-0400
TZOFFSETTO:-0500
TZNAME:EST
DTSTART:20221106T060000
END:STANDARD
END:VTIMEZONE
BEGIN:VEVENT
DTSTART;TZID=America/New_York:20221219T190000
DTEND;TZID=America/New_York:20221219T200000
DTSTAMP:20260422T190428
CREATED:20221130T163543Z
LAST-MODIFIED:20221219T191348Z
UID:10262-1671476400-1671480000@vegmichigan.org
SUMMARY:PLANT-BASED HOLIDAY COOKING DEMO
DESCRIPTION:Join us for a virtual holiday-themed cooking class by Michele Gallo and Jodi Wollitz! \nJoin Zoom Meeting\nhttps://us06web.zoom.us/j/85475977420\n\nRecipes – https://docs.google.com/document/d/1_pCVl2VClnNo4yPd9_0aEXKRNmt-iFbHVF8XTl15Ce4/edit?usp=sharing \nMichele Gallo is a Certified Health and Wellness Coach\, Certified Plant-Based Professional\, ACSM Certified Exercise Physiologist\, and Whole Food Plant-based Culinary Instructor. She is certified in Holistic Nutrition and holds certificates in Culinary Coaching from Harvard Medical School and the Institute for Lifestyle Medicine\, ACLM Lifestyle Medicine for Coaches\, T. Colin Campbell Center for Nutrition Studies in Plant-Based Nutrition\, and is Forks Over Knives Plant-Based Certified. She is a Conference Coordinator for the non-profit Plant-Based Prevention Of Disease. \nJodi Wollitz is celebrating her twenty-fifth year as a Michigan private chef. She is certified in Plant-Based Nutrition through the T. Colin Campbell Center for Nutrition Studies at eCornell. She recently graduated from Main Street Vegan Academy as a Certified Vegan Lifestyle Coach and Educator. Jodi has shared her love of cooking by teaching many community cooking classes and demonstrations.
URL:https://vegmichigan.org/event/plant-based-holiday-cooking-demo/
ATTACH;FMTTYPE=image/jpeg:https://vegmichigan.org/wp-content/uploads/2022/11/pexels-nicole-michalou-5775050-scaled.jpg
END:VEVENT
END:VCALENDAR