BEGIN:VCALENDAR
VERSION:2.0
PRODID:-//VegMichigan - ECPv5.16.1.1//NONSGML v1.0//EN
CALSCALE:GREGORIAN
METHOD:PUBLISH
X-WR-CALNAME:VegMichigan
X-ORIGINAL-URL:https://vegmichigan.org
X-WR-CALDESC:Events for VegMichigan
REFRESH-INTERVAL;VALUE=DURATION:PT1H
X-Robots-Tag:noindex
X-PUBLISHED-TTL:PT1H
BEGIN:VTIMEZONE
TZID:America/New_York
BEGIN:DAYLIGHT
TZOFFSETFROM:-0500
TZOFFSETTO:-0400
TZNAME:EDT
DTSTART:20230312T070000
END:DAYLIGHT
BEGIN:STANDARD
TZOFFSETFROM:-0400
TZOFFSETTO:-0500
TZNAME:EST
DTSTART:20231105T060000
END:STANDARD
END:VTIMEZONE
BEGIN:VEVENT
DTSTART;TZID=America/New_York:20230307T190000
DTEND;TZID=America/New_York:20230307T200000
DTSTAMP:20260423T000831
CREATED:20230201T003004Z
LAST-MODIFIED:20230303T160158Z
UID:10717-1678215600-1678219200@vegmichigan.org
SUMMARY:GROWING A GARDEN: A PATH TO PHYSICAL & MENTAL WELL-BEING (VIRTUAL PRESENTATION)
DESCRIPTION:GROWING A GARDEN: A PATH TO PHYSICAL & MENTAL WELL-BEING \nThis presentation will inspire you to start your own garden this spring! \nThis is for anyone who is interested in starting a garden and learning how gardening can help improve your physical and mental well-being. \nPresenters: Matt and Deanna Tregoning are the former owners of Sol to Seed Farm in WA State. They previously farmed on 5 acres and sold produce at Farmers Markets and through a community-supported agriculture program. They continue to grow food on a much smaller scale for themselves and family. \nMatt also has a YouTube channel focused on gardening where he provides education on growing a successful garden from Spring through fall. Deanna is a nurse practitioner specializing in cardiovascular disease. She is interested in disease prevention and progression with a focus on dietary changes to improve health. She promotes Mediterranean and plant-based eating plans and provides education through recipes\, meal planning\, and cooking demonstrations on ways to incorporate healthy meals as part of your everyday diet. \nTopic: Growing a Garden: A Path to Physical & Mental Well-Being\nTime: Mar 7\, 2023 07:00 PM Eastern Time (US and Canada) \nJoin Zoom Meeting\nhttps://us06web.zoom.us/j/89451918647
URL:https://vegmichigan.org/event/growing-a-garden-virtual-presentation/
ATTACH;FMTTYPE=image/jpeg:https://vegmichigan.org/wp-content/uploads/2023/01/Garden-2020-Cucumbers-e1675215002519.jpg
END:VEVENT
END:VCALENDAR