BEGIN:VCALENDAR
VERSION:2.0
PRODID:-//VegMichigan - ECPv5.16.1.1//NONSGML v1.0//EN
CALSCALE:GREGORIAN
METHOD:PUBLISH
X-ORIGINAL-URL:https://vegmichigan.org
X-WR-CALDESC:Events for VegMichigan
REFRESH-INTERVAL;VALUE=DURATION:PT1H
X-Robots-Tag:noindex
X-PUBLISHED-TTL:PT1H
BEGIN:VTIMEZONE
TZID:America/New_York
BEGIN:DAYLIGHT
TZOFFSETFROM:-0500
TZOFFSETTO:-0400
TZNAME:EDT
DTSTART:20230312T070000
END:DAYLIGHT
BEGIN:STANDARD
TZOFFSETFROM:-0400
TZOFFSETTO:-0500
TZNAME:EST
DTSTART:20231105T060000
END:STANDARD
END:VTIMEZONE
BEGIN:VEVENT
DTSTART;VALUE=DATE:20230311
DTEND;VALUE=DATE:20230312
DTSTAMP:20260423T000909
CREATED:20220914T140322Z
LAST-MODIFIED:20240305T181213Z
UID:9826-1678492800-1678579199@vegmichigan.org
SUMMARY:PLANT-BASED FOOD GIVEAWAY AT OAKLAND UNIVERSITY
DESCRIPTION:PLANT-BASED FOOD GIVEAWAY AT OAKLAND UNIVERSITY \nVegMichigan is partnering Chickpea & Bean to give out free bags full of delicious plant-based item to Oakland University students.
URL:https://vegmichigan.org/event/30-day-pledge-giveaway-with-the-humane-society-of-huron-valley/
LOCATION:Oakland University\, MI\, United States
ATTACH;FMTTYPE=image/jpeg:https://vegmichigan.org/wp-content/uploads/2023/10/IMG_2446-scaled.jpeg
END:VEVENT
END:VCALENDAR