BEGIN:VCALENDAR
VERSION:2.0
PRODID:-//VegMichigan - ECPv5.16.1.1//NONSGML v1.0//EN
CALSCALE:GREGORIAN
METHOD:PUBLISH
X-ORIGINAL-URL:https://vegmichigan.org
X-WR-CALDESC:Events for VegMichigan
REFRESH-INTERVAL;VALUE=DURATION:PT1H
X-Robots-Tag:noindex
X-PUBLISHED-TTL:PT1H
BEGIN:VTIMEZONE
TZID:America/New_York
BEGIN:DAYLIGHT
TZOFFSETFROM:-0500
TZOFFSETTO:-0400
TZNAME:EDT
DTSTART:20230312T070000
END:DAYLIGHT
BEGIN:STANDARD
TZOFFSETFROM:-0400
TZOFFSETTO:-0500
TZNAME:EST
DTSTART:20231105T060000
END:STANDARD
END:VTIMEZONE
BEGIN:VEVENT
DTSTART;TZID=America/New_York:20230405T110000
DTEND;TZID=America/New_York:20230405T130000
DTSTAMP:20260423T033020
CREATED:20230316T144809Z
LAST-MODIFIED:20230328T152032Z
UID:10936-1680692400-1680699600@vegmichigan.org
SUMMARY:TRAVERSE CITY MEETUP AND PLEDGE PICKUP AT EDSON FARMS
DESCRIPTION:TRAVERSE CITY MEETUP AND PLEDGE PICKUP AT EDSON FARMS \nWe have been delighted with the interest and camaraderie our new Traverse City group has developed. Please join us for a fun conversation about plant-based eating and life. All are welcome! \nPlease join our VegMichigan Traverse City Meetup group! – https://www.meetup.com/traverse-city-vegmichigan-meetup/events/291962501/
URL:https://vegmichigan.org/event/10936/
ATTACH;FMTTYPE=image/webp:https://vegmichigan.org/wp-content/uploads/2023/03/600_511041034.webp
END:VEVENT
END:VCALENDAR