BEGIN:VCALENDAR
VERSION:2.0
PRODID:-//VegMichigan - ECPv5.16.1.1//NONSGML v1.0//EN
CALSCALE:GREGORIAN
METHOD:PUBLISH
X-WR-CALNAME:VegMichigan
X-ORIGINAL-URL:https://vegmichigan.org
X-WR-CALDESC:Events for VegMichigan
REFRESH-INTERVAL;VALUE=DURATION:PT1H
X-Robots-Tag:noindex
X-PUBLISHED-TTL:PT1H
BEGIN:VTIMEZONE
TZID:America/New_York
BEGIN:DAYLIGHT
TZOFFSETFROM:-0500
TZOFFSETTO:-0400
TZNAME:EDT
DTSTART:20230312T070000
END:DAYLIGHT
BEGIN:STANDARD
TZOFFSETFROM:-0400
TZOFFSETTO:-0500
TZNAME:EST
DTSTART:20231105T060000
END:STANDARD
END:VTIMEZONE
BEGIN:VEVENT
DTSTART;TZID=America/New_York:20230406T190000
DTEND;TZID=America/New_York:20230406T200000
DTSTAMP:20260423T015558
CREATED:20210630T154021Z
LAST-MODIFIED:20230228T195225Z
UID:6596-1680807600-1680811200@vegmichigan.org
SUMMARY:VIRTUAL EASTER-THEMED COOKING DEMO
DESCRIPTION:VIRTUAL EASTER-THEMED COOKING DEMO \nJoin us for a virtual\, easter-themed cooking demo by chefs Luna and Nate. \nLuna and Nate are professional chefs who run the vegan food blog Cooking Up Vegan. Combined\, Luna and Nate have spent over 15 years as professional chefs and they are excited to demo a few of their recipes for us! Whether you are interested in plant-based eating for the animals\, the planet\, your health\, or for everything\, Cookingupvegan.com has tons of easy\, unique\, and delicious recipes that are great for everyone. They will be demoing their vegan deviled eggs and vegan lox. \nCheck out the recipes ahead of time and follow along with the demo if you want! \nDeviled Eggs – https://www.cookingupvegan.com/recipes/vegan-deviled-eggs/\nLox – https://www.cookingupvegan.com/recipes/vegan-lox-from-carrots/\n\nJoin us on Zoom – https://us06web.zoom.us/j/85044289340
URL:https://vegmichigan.org/event/cooking-up-vegan-with-chefs-luna-nate/
ATTACH;FMTTYPE=image/jpeg:https://vegmichigan.org/wp-content/uploads/2021/06/vegan-deviled-eggs-with-dill-and-smoked-paprika-800x530-1.jpg
END:VEVENT
END:VCALENDAR