BEGIN:VCALENDAR
VERSION:2.0
PRODID:-//VegMichigan - ECPv5.16.1.1//NONSGML v1.0//EN
CALSCALE:GREGORIAN
METHOD:PUBLISH
X-WR-CALNAME:VegMichigan
X-ORIGINAL-URL:https://vegmichigan.org
X-WR-CALDESC:Events for VegMichigan
REFRESH-INTERVAL;VALUE=DURATION:PT1H
X-Robots-Tag:noindex
X-PUBLISHED-TTL:PT1H
BEGIN:VTIMEZONE
TZID:America/New_York
BEGIN:DAYLIGHT
TZOFFSETFROM:-0500
TZOFFSETTO:-0400
TZNAME:EDT
DTSTART:20230312T070000
END:DAYLIGHT
BEGIN:STANDARD
TZOFFSETFROM:-0400
TZOFFSETTO:-0500
TZNAME:EST
DTSTART:20231105T060000
END:STANDARD
END:VTIMEZONE
BEGIN:VEVENT
DTSTART;VALUE=DATE:20230422
DTEND;VALUE=DATE:20230423
DTSTAMP:20260423T015557
CREATED:20230406T170356Z
LAST-MODIFIED:20230406T170356Z
UID:11111-1682121600-1682207999@vegmichigan.org
SUMMARY:ANN ARBOR LUNCH MEETUP AT TASTE OF INDIA SUVAI
DESCRIPTION:ANN ARBOR LUNCH MEETUP AT TASTE OF INDIA SUVAI \nTHIS EVENT IS FULL. \nVegMichigan is hosting a lunch meetup on Saturday\, April 22 at Taste of India Suvai! \nJoin our VegMichigan Ann Arbor Meetup group to stay notified about future events – https://www.meetup.com/vegmichigan-greater-ann-arbor-area/
URL:https://vegmichigan.org/event/ann-arbor-lunch-meetup-at-taste-of-india-suvai/
ATTACH;FMTTYPE=image/webp:https://vegmichigan.org/wp-content/uploads/2023/04/600_511831500.webp
END:VEVENT
BEGIN:VEVENT
DTSTART;TZID=America/New_York:20230422T110000
DTEND;TZID=America/New_York:20230422T150000
DTSTAMP:20260423T015557
CREATED:20230404T162628Z
LAST-MODIFIED:20230404T162628Z
UID:11092-1682161200-1682175600@vegmichigan.org
SUMMARY:CELEBRATE EARTH DAY IN TRAVERSE CITY
DESCRIPTION:CELEBRATE EARTH DAY IN TRAVERSE CITY \n  \nCome join us to celebrate Earth Day! At the Grand Traverse County Civic Center. \nThere will be live music\, scavenger hunts\, make-and-take eco-crafts\, free (on-site) paper shredding\, composting demonstrations\, and much more! \nEarth Day is a great day to learn about the importance of a plant-based diet and why shifting your diet from meat and other animal products to plant-based diets has a high potential for reducing carbon footprints and mitigating climate change\, as well as improving human health\, according to Climate Change 2022: Mitigation of Climate Change\, a report from the United Nations’ Intergovernmental Panel on Climate Change. \n  \nJoin the VegMichigan Traverse City Meetup Group! – https://www.meetup.com/traverse-city-vegmichigan-meetup/ \n  \nGrand Traverse County Civic Center. – 1213 W Civic Center Dr · Traverse City\, MI
URL:https://vegmichigan.org/event/celebrate-earth-day-in-traverse-city/
LOCATION:1213 W Civic Center Dr · Traverse City\, MI
ATTACH;FMTTYPE=image/jpeg:https://vegmichigan.org/wp-content/uploads/2023/04/pexels-markus-spiske-3039036-scaled.jpg
END:VEVENT
END:VCALENDAR