BEGIN:VCALENDAR
VERSION:2.0
PRODID:-//VegMichigan - ECPv5.16.1.1//NONSGML v1.0//EN
CALSCALE:GREGORIAN
METHOD:PUBLISH
X-WR-CALNAME:VegMichigan
X-ORIGINAL-URL:https://vegmichigan.org
X-WR-CALDESC:Events for VegMichigan
REFRESH-INTERVAL;VALUE=DURATION:PT1H
X-Robots-Tag:noindex
X-PUBLISHED-TTL:PT1H
BEGIN:VTIMEZONE
TZID:America/New_York
BEGIN:DAYLIGHT
TZOFFSETFROM:-0500
TZOFFSETTO:-0400
TZNAME:EDT
DTSTART:20230312T070000
END:DAYLIGHT
BEGIN:STANDARD
TZOFFSETFROM:-0400
TZOFFSETTO:-0500
TZNAME:EST
DTSTART:20231105T060000
END:STANDARD
END:VTIMEZONE
BEGIN:VEVENT
DTSTART;TZID=America/New_York:20230429T130000
DTEND;TZID=America/New_York:20230429T143000
DTSTAMP:20260423T015557
CREATED:20230328T144838Z
LAST-MODIFIED:20230328T144838Z
UID:10961-1682773200-1682778600@vegmichigan.org
SUMMARY:TRAVERSE CITY MEETUP AT STONE HOUND BREWING CO.
DESCRIPTION:TRAVERSE CITY MEETUP AT STONE HOUND BREWING CO. \nJoin us at Stone Hound Brewing Co. for a 100% plant-based menu including wraps\, burgers\, bowls\, and snacks! \nWhatever your food preference (vegetarian\, vegan\, omnivore)\, everyone’s welcome! \nFood orders are taken at the bar\, so arrive whenever you want. \nNote the time change! We’ll be there from 1pm. See you then! \nCheck out the menu STONE HOUND BREWING CO.
URL:https://vegmichigan.org/event/traverse-city-meetup-at-stone-hound-brewing-co/
LOCATION:3593 Bunker Hill Rd · Williamsburg\, MI
ATTACH;FMTTYPE=image/webp:https://vegmichigan.org/wp-content/uploads/2023/03/600_511488701-2.webp
END:VEVENT
END:VCALENDAR