BEGIN:VCALENDAR
VERSION:2.0
PRODID:-//VegMichigan - ECPv5.16.1.1//NONSGML v1.0//EN
CALSCALE:GREGORIAN
METHOD:PUBLISH
X-WR-CALNAME:VegMichigan
X-ORIGINAL-URL:https://vegmichigan.org
X-WR-CALDESC:Events for VegMichigan
REFRESH-INTERVAL;VALUE=DURATION:PT1H
X-Robots-Tag:noindex
X-PUBLISHED-TTL:PT1H
BEGIN:VTIMEZONE
TZID:America/New_York
BEGIN:DAYLIGHT
TZOFFSETFROM:-0500
TZOFFSETTO:-0400
TZNAME:EDT
DTSTART:20230312T070000
END:DAYLIGHT
BEGIN:STANDARD
TZOFFSETFROM:-0400
TZOFFSETTO:-0500
TZNAME:EST
DTSTART:20231105T060000
END:STANDARD
END:VTIMEZONE
BEGIN:VEVENT
DTSTART;VALUE=DATE:20230430
DTEND;VALUE=DATE:20230501
DTSTAMP:20260423T015556
CREATED:20230411T184037Z
LAST-MODIFIED:20230411T184037Z
UID:11139-1682812800-1682899199@vegmichigan.org
SUMMARY:30-DAY PLEDGE PICKUP FOR UNITY CHURCH
DESCRIPTION:30-DAY PLEDGE PICKUP FOR UNITY CHURCH \nVegMichigan will distribute bags of delicious plant-based foods to community members who are new to plant-based eating.
URL:https://vegmichigan.org/event/30-day-pledge-pickup-for-unity-church/
ATTACH;FMTTYPE=image/jpeg:https://vegmichigan.org/wp-content/uploads/2021/11/20210920_161420.jpg
END:VEVENT
END:VCALENDAR