BEGIN:VCALENDAR
VERSION:2.0
PRODID:-//VegMichigan - ECPv5.16.1.1//NONSGML v1.0//EN
CALSCALE:GREGORIAN
METHOD:PUBLISH
X-WR-CALNAME:VegMichigan
X-ORIGINAL-URL:https://vegmichigan.org
X-WR-CALDESC:Events for VegMichigan
REFRESH-INTERVAL;VALUE=DURATION:PT1H
X-Robots-Tag:noindex
X-PUBLISHED-TTL:PT1H
BEGIN:VTIMEZONE
TZID:America/New_York
BEGIN:DAYLIGHT
TZOFFSETFROM:-0500
TZOFFSETTO:-0400
TZNAME:EDT
DTSTART:20230312T070000
END:DAYLIGHT
BEGIN:STANDARD
TZOFFSETFROM:-0400
TZOFFSETTO:-0500
TZNAME:EST
DTSTART:20231105T060000
END:STANDARD
END:VTIMEZONE
BEGIN:VEVENT
DTSTART;TZID=America/New_York:20230507T133000
DTEND;TZID=America/New_York:20230507T170000
DTSTAMP:20260423T032936
CREATED:20230428T171407Z
LAST-MODIFIED:20230428T172553Z
UID:11308-1683466200-1683478800@vegmichigan.org
SUMMARY:A2 CLIMATE TEACH IN AT GENESIS OF AA
DESCRIPTION:VegMichigan staff will teach a breakout session focused on making changes to our diets\, including eating more plants\, grains and legumes\, and how this can help cut greenhouse gas emissions. We will also discuss where to purchase local food\, ideas for preparing plant-based meals\, and disposing of waste. To learn more and register: https://www.a2climateteachin.com/
URL:https://vegmichigan.org/event/a2-climate-teach-in/
LOCATION:2309 Packard St.\, Ann Arbor\, MI 48104
ATTACH;FMTTYPE=image/jpeg:https://vegmichigan.org/wp-content/uploads/2023/04/Kim-teaching.jpg
END:VEVENT
END:VCALENDAR