BEGIN:VCALENDAR
VERSION:2.0
PRODID:-//VegMichigan - ECPv5.16.1.1//NONSGML v1.0//EN
CALSCALE:GREGORIAN
METHOD:PUBLISH
X-WR-CALNAME:VegMichigan
X-ORIGINAL-URL:https://vegmichigan.org
X-WR-CALDESC:Events for VegMichigan
REFRESH-INTERVAL;VALUE=DURATION:PT1H
X-Robots-Tag:noindex
X-PUBLISHED-TTL:PT1H
BEGIN:VTIMEZONE
TZID:America/New_York
BEGIN:DAYLIGHT
TZOFFSETFROM:-0500
TZOFFSETTO:-0400
TZNAME:EDT
DTSTART:20230312T070000
END:DAYLIGHT
BEGIN:STANDARD
TZOFFSETFROM:-0400
TZOFFSETTO:-0500
TZNAME:EST
DTSTART:20231105T060000
END:STANDARD
END:VTIMEZONE
BEGIN:VEVENT
DTSTART;TZID=America/New_York:20230513T130000
DTEND;TZID=America/New_York:20230513T143000
DTSTAMP:20260423T032935
CREATED:20230411T181912Z
LAST-MODIFIED:20230411T181912Z
UID:11133-1683982800-1683988200@vegmichigan.org
SUMMARY:VIRTUAL BOOK CLUB: THINK LIKE A VEGAN (PT 2)
DESCRIPTION:VIRTUAL BOOK CLUB: THINK LIKE A VEGAN (PT 2) \n  \nFor our May Book Club\, we will discuss Think Like a Vegan: What Everyone Can Learn from Vegan Ethics (by Emilia A. Leese and Eva J. Charalambides\, 2021). We ask that you read the book\, or at least part of it\, and bring a quote from the book that resonated with you\, a question about something you didn’t understand\, and/or a comment about something you read. This will help us have a meaningful discussion. Not everyone has to speak\, but it is more fun when more people contribute! \nBook description: “What is animal agriculture\, and what is its impact on the environment? … What’s the problem with organic meat? What are the economics of plant-based foods? What about honey? … What is the relationship between veganism and feminism? … From basic fairness to politics\, economics\, love and other aspects of being human\, Think Like a Vegan invites the reader to set aside their preconceived notions about veganism\, and to enter into an invigorating conversation about your daily ethical decisions.” (from the cover) \n  \nThe Book Club is a collaboration between Attorneys for Animals and VegMichigan. \nPlease register for the Zoom meeting at https://us06web.zoom.us/meeting/register/tZcodOCtrj8sE9Fj6AV1LvkbaQh2ssOxhECZ. \nAfter you register\, you will get an email from Zoom with the link for the meeting. \n  \nWe hope you can join us!
URL:https://vegmichigan.org/event/virtual-book-club-think-like-a-vegan-pt-2/
ATTACH;FMTTYPE=image/png:https://vegmichigan.org/wp-content/uploads/2022/12/Book-Club-banner-03.png
END:VEVENT
END:VCALENDAR