BEGIN:VCALENDAR
VERSION:2.0
PRODID:-//VegMichigan - ECPv5.16.1.1//NONSGML v1.0//EN
CALSCALE:GREGORIAN
METHOD:PUBLISH
X-WR-CALNAME:VegMichigan
X-ORIGINAL-URL:https://vegmichigan.org
X-WR-CALDESC:Events for VegMichigan
REFRESH-INTERVAL;VALUE=DURATION:PT1H
X-Robots-Tag:noindex
X-PUBLISHED-TTL:PT1H
BEGIN:VTIMEZONE
TZID:America/New_York
BEGIN:DAYLIGHT
TZOFFSETFROM:-0500
TZOFFSETTO:-0400
TZNAME:EDT
DTSTART:20230312T070000
END:DAYLIGHT
BEGIN:STANDARD
TZOFFSETFROM:-0400
TZOFFSETTO:-0500
TZNAME:EST
DTSTART:20231105T060000
END:STANDARD
END:VTIMEZONE
BEGIN:VEVENT
DTSTART;TZID=America/New_York:20230525T183000
DTEND;TZID=America/New_York:20230525T193000
DTSTAMP:20260423T032934
CREATED:20230427T210533Z
LAST-MODIFIED:20230525T141348Z
UID:11255-1685039400-1685043000@vegmichigan.org
SUMMARY:VIRTUAL INDIAN COOKING DEMO WITH VINITA FROM KARMA WELLNESS KITCHEN
DESCRIPTION:VIRTUAL INDIAN COOKING DEMO WITH VINITA FROM KARMA WELLNESS KITCHEN \nJoin us for a virtual Indian cooking demo where Vinita Parekh\, founder of Karma Wellness Kitchen\, will demonstrate how to make Lentil Crepes\, Mixed Lentil Dal\, and Popped Water Lily Salad. \nVinita Parekh\, is a food entrepreneur and founder of Karma Wellness Kitchen\, a Walled Lake\, Michigan-based food start-up. As a lifelong foodie and passionate advocate for healthy eating\, we have created delicious and nutritious plant-based food products that are accessible to everyone. With a focus on plant-based ingredients and environmentally friendly packaging\, Karma products have earned a loyal following among health-conscious consumers who care about the impact of their food choices. At Karma Wellness Kitchen our vision is to create a healthy food future that’s good for our bodies and planet. \nJoin us on Zoom – https://us06web.zoom.us/j/84048465121 \nRecipes – https://docs.google.com/document/d/1gJjCzescnEXWjftgxZNGCBEhJMc2fg7Qb-ySbc_TMZc/edit?usp=sharing
URL:https://vegmichigan.org/event/virtual-cooking-demo-with-karma-spices/
ATTACH;FMTTYPE=image/png:https://vegmichigan.org/wp-content/uploads/2023/04/Screen-Shot-2023-05-03-at-11.50.58-AM.png
END:VEVENT
END:VCALENDAR