BEGIN:VCALENDAR
VERSION:2.0
PRODID:-//VegMichigan - ECPv5.16.1.1//NONSGML v1.0//EN
CALSCALE:GREGORIAN
METHOD:PUBLISH
X-ORIGINAL-URL:https://vegmichigan.org
X-WR-CALDESC:Events for VegMichigan
REFRESH-INTERVAL;VALUE=DURATION:PT1H
X-Robots-Tag:noindex
X-PUBLISHED-TTL:PT1H
BEGIN:VTIMEZONE
TZID:America/New_York
BEGIN:DAYLIGHT
TZOFFSETFROM:-0500
TZOFFSETTO:-0400
TZNAME:EDT
DTSTART:20230312T070000
END:DAYLIGHT
BEGIN:STANDARD
TZOFFSETFROM:-0400
TZOFFSETTO:-0500
TZNAME:EST
DTSTART:20231105T060000
END:STANDARD
END:VTIMEZONE
BEGIN:VEVENT
DTSTART;TZID=America/New_York:20230602T130000
DTEND;TZID=America/New_York:20230602T150000
DTSTAMP:20260423T033019
CREATED:20230510T145115Z
LAST-MODIFIED:20230510T145245Z
UID:11385-1685710800-1685718000@vegmichigan.org
SUMMARY:TRAVERSE CITY MONTHLY MEETUP AND ICE CREAM SOCIAL
DESCRIPTION:TRAVERSE CITY MONTHLY MEETUP AND ICE CREAM SOCIAL \nPlease join us for a vegan ice cream social at Milk and Honey in downtown Traverse City. Meet new friends\, enjoy delicious\, dairy-free\, vegan ice cream and enjoy some live music. Scott Aughney will be performing guitar music for our enjoyment. All are welcome. $3.00 off coupon at the door for VegMichigan members. \n  \nThis event is at Milk & Honey \n240 E Front St · Traverse City\, MI\n\n\n\nPlease RSVP on the VegMichigan Traverse City Meetup group – https://www.meetup.com/traverse-city-vegmichigan-meetup/events/293429247?utm_medium=email&utm_source=braze_canvas&utm_campaign=mmrk_alleng_event_announcement_prod_v7_en&utm_term=promo&utm_content=lp_meetup
URL:https://vegmichigan.org/event/traverse-city-monthly-meetup-and-ice-cream-social/
LOCATION:240 E Front St · Traverse City\, MI
ATTACH;FMTTYPE=image/webp:https://vegmichigan.org/wp-content/uploads/2023/05/600_512743730.webp
END:VEVENT
END:VCALENDAR