BEGIN:VCALENDAR
VERSION:2.0
PRODID:-//VegMichigan - ECPv5.16.1.1//NONSGML v1.0//EN
CALSCALE:GREGORIAN
METHOD:PUBLISH
X-WR-CALNAME:VegMichigan
X-ORIGINAL-URL:https://vegmichigan.org
X-WR-CALDESC:Events for VegMichigan
REFRESH-INTERVAL;VALUE=DURATION:PT1H
X-Robots-Tag:noindex
X-PUBLISHED-TTL:PT1H
BEGIN:VTIMEZONE
TZID:America/New_York
BEGIN:DAYLIGHT
TZOFFSETFROM:-0500
TZOFFSETTO:-0400
TZNAME:EDT
DTSTART:20230312T070000
END:DAYLIGHT
BEGIN:STANDARD
TZOFFSETFROM:-0400
TZOFFSETTO:-0500
TZNAME:EST
DTSTART:20231105T060000
END:STANDARD
END:VTIMEZONE
BEGIN:VEVENT
DTSTART;TZID=America/New_York:20230615T183000
DTEND;TZID=America/New_York:20230615T193000
DTSTAMP:20260423T050923
CREATED:20230503T164518Z
LAST-MODIFIED:20230607T092635Z
UID:11377-1686853800-1686857400@vegmichigan.org
SUMMARY:FOOD EMPOWERMENT PROJECT: A PATH TOWARDS FOOD JUSTICE
DESCRIPTION:FOOD EMPOWERMENT PROJECT: A PATH TOWARDS FOOD JUSTICE \nFood Empowerment Project’s (F.E.P.) founder and Senior Programs Director\, lauren Ornelas\, will speak on the power of our food choices. \nF.E.P. is a vegan food justice organization\, and she will discuss its core work\, including promoting ethical veganism\, championing the rights of farm workers\, highlighting the lack of access to healthy foods in Black and Brown communities\, and raising awareness about the worst forms of slavery\, including child labor\, in the chocolate industry. \nJoin us on Zoom here – https://us06web.zoom.us/j/84662420959
URL:https://vegmichigan.org/event/food-empowerment-project-a-path-towards-food-justice/
ATTACH;FMTTYPE=image/jpeg:https://vegmichigan.org/wp-content/uploads/2023/05/FEPIHI17-scaled-e1686129980444.jpg
END:VEVENT
END:VCALENDAR