BEGIN:VCALENDAR
VERSION:2.0
PRODID:-//VegMichigan - ECPv5.16.1.1//NONSGML v1.0//EN
CALSCALE:GREGORIAN
METHOD:PUBLISH
X-ORIGINAL-URL:https://vegmichigan.org
X-WR-CALDESC:Events for VegMichigan
REFRESH-INTERVAL;VALUE=DURATION:PT1H
X-Robots-Tag:noindex
X-PUBLISHED-TTL:PT1H
BEGIN:VTIMEZONE
TZID:America/New_York
BEGIN:DAYLIGHT
TZOFFSETFROM:-0500
TZOFFSETTO:-0400
TZNAME:EDT
DTSTART:20230312T070000
END:DAYLIGHT
BEGIN:STANDARD
TZOFFSETFROM:-0400
TZOFFSETTO:-0500
TZNAME:EST
DTSTART:20231105T060000
END:STANDARD
END:VTIMEZONE
BEGIN:VEVENT
DTSTART;VALUE=DATE:20230621
DTEND;VALUE=DATE:20230622
DTSTAMP:20260423T050937
CREATED:20230525T175835Z
LAST-MODIFIED:20230613T152534Z
UID:11452-1687305600-1687391999@vegmichigan.org
SUMMARY:PLANT-BASED FOR THE PLANET AND OUR HEALTH
DESCRIPTION:PLANT-BASED FOR THE PLANET AND OUR HEALTH \nWe will provide a webinar for Ann Arbor City employees focused on how incorporating more plant-based meals into one’s diet can benefit our health and reduce our carbon footprint. We will discuss tips for preparing plant-based meals and eating plant-based in Ann Arbor.
URL:https://vegmichigan.org/event/health-and-environmental-benefits-of-plant-based-eating/
ATTACH;FMTTYPE=image/jpeg:https://vegmichigan.org/wp-content/uploads/2023/05/A2Zero-Climate-Teach-In.jpg
END:VEVENT
END:VCALENDAR